BEGIN:VCALENDAR
VERSION:2.0
PRODID:-//ChamberMaster//Event Calendar 2.0//EN
METHOD:PUBLISH
X-PUBLISHED-TTL:P3D
REFRESH-INTERVAL:P3D
CALSCALE:GREGORIAN
BEGIN:VEVENT
DTSTART:20181206T000000Z
DTEND:20181206T043000Z
X-MICROSOFT-CDO-ALLDAYEVENT:FALSE
SUMMARY:City of La Palma - Holiday Tree Lighting Ceremony
DESCRIPTION:***The December 5 Holiday Tree Light Ceremony will be canceled due to rain in the forecast. \n\n\n\nCity of La Palma - Holiday Tree Lighting Ceremony: \n\n	Crafts and visits with Santa from 4:00 p.m. to 5:30 p.m.\n	Ceremony from 5:30 p.m. to 8:30 p.m.
X-ALT-DESC;FMTTYPE=text/html:<strong>***The December 5 Holiday Tree Light Ceremony <em>will be canceled due to rain in the forecast.&nbsp\;</em></strong><br />\n<br />\nCity of La Palma - Holiday Tree Lighting Ceremony:&nbsp\;\n<ul>\n	<li>Crafts and visits with Santa from 4:00 p.m. to 5:30 p.m.</li>\n	<li>Ceremony from 5:30 p.m. to 8:30 p.m.</li>\n</ul>\n
LOCATION:Central Park Amphitheater 7821 Walker Street La Palma\, CA\, 90623
UID:e.887.22893
SEQUENCE:3
DTSTAMP:20260422T115231Z
URL:https://business.nocchamber.com/events/details/city-of-la-palma-holiday-tree-lighting-ceremony-22893
END:VEVENT

END:VCALENDAR
