BEGIN:VCALENDAR
VERSION:2.0
PRODID:-//ChamberMaster//Event Calendar 2.0//EN
METHOD:PUBLISH
X-PUBLISHED-TTL:P3D
REFRESH-INTERVAL:P3D
CALSCALE:GREGORIAN
BEGIN:VEVENT
DTSTART;VALUE=DATE:20190520
DTEND;VALUE=DATE:20190525
TRANSP:TRANSPARENT
X-MICROSOFT-CDO-ALLDAYEVENT:TRUE
SUMMARY:City of La Palma 2019 Bulky Item Pick-Up
DESCRIPTION:With help from EDCO\, residents of La Palma will be able to dispose of unwanted items for free. These include items such as broken appliances\, water heaters\, furniture\, old mattresses\, tree branches (must be tied into bundles and must not exceed two feet in diameter or four feet in length) and other miscellaneous household bulky items that are too large or too heavy to place in your trash cans on collection day. Simply place the items you'd like picked up out on the curb with your regular trash containers on your regularly scheduled collection day during the cleanup event. Debris from contractors\, landscapers or commercial businesses will NOT be accepted. \n\nCondominium Communities: Residents living in a condominium complex can participate in the cleanup event by calling (714) 522-3577 no later than May 13\, 2019 to schedule a special pick up.
X-ALT-DESC;FMTTYPE=text/html:<p style="margin: 0px 0px 16px\; padding: 0px\; color: rgb(95\, 96\, 98)\; font-family: arial\, sans-serif\;">With help from&nbsp\;EDCO\, residents of La Palma will be able to dispose of unwanted items for free. These include items such as broken appliances\, water heaters\, furniture\, old mattresses\, tree branches (must be tied into bundles and must not exceed two feet in diameter or four feet in length) and other miscellaneous household bulky items that are too large or too heavy to place in your trash cans on collection day. Simply place the items you&rsquo\;d like picked up out on the curb with your regular trash containers on your regularly scheduled collection day during the cleanup event.&nbsp\;<strong style="margin: 0px\; padding: 0px\;"><em style="margin: 0px\; padding: 0px\;">Debris from contractors\, landscapers or commercial businesses will NOT be accepted.&nbsp\;</em></strong></p>\n\n<p class="p1" style="margin: 0px 0px 16px\; padding: 0px\; color: rgb(95\, 96\, 98)\; font-family: arial\, sans-serif\;"><strong style="margin: 0px\; padding: 0px\;">Condominium Communities:</strong>&nbsp\;Residents living in a condominium complex can participate in the cleanup event by calling (714) 522-3577 no later than May 13\, 2019 to schedule a special pick up.</p>\n
LOCATION:Simply place the items you'd like picked up out on the curb with your regular trash containers on your regularly scheduled collection day during the cleanup event.
UID:e.887.23303
SEQUENCE:3
DTSTAMP:20260422T055026Z
URL:https://business.nocchamber.com/events/details/city-of-la-palma-2019-bulky-item-pick-up-23303
END:VEVENT

END:VCALENDAR
