BEGIN:VCALENDAR
VERSION:2.0
PRODID:-//ChamberMaster//Event Calendar 2.0//EN
METHOD:PUBLISH
X-PUBLISHED-TTL:P3D
REFRESH-INTERVAL:P3D
CALSCALE:GREGORIAN
BEGIN:VEVENT
DTSTART:20190704T230000Z
DTEND:20190705T043000Z
X-MICROSOFT-CDO-ALLDAYEVENT:FALSE
SUMMARY:City of La Habra 4th of July Celebration
DESCRIPTION:The City of La Habra prides itself on having one of the best 4th of July events in the area. In addition to a fireworks display\, the event includes performances by live bands\, raffles\, a kids' zone with laser tag\, inflatables\, balloon art and face painting\, as well as food vendors and general merchandise vendors. The event will be held at La Bonita Park\, 1440 West Whittier Boulevard. Guests should bring their own seating. Food and drinks can be brought into the event\, however no glass containers or alcoholic beverages are permitted. Sorry\, no pets are permitted\, with the exception of service dogs.\n\nThe 2019 4th of July event will feature live music by Soto.\n\n\n\nClick here to view flyer
X-ALT-DESC;FMTTYPE=text/html:<p>The City of La Habra prides itself on having one of the best 4th of July events in the area. In addition to a&nbsp\;fireworks display\, the&nbsp\;event includes performances by live bands\, raffles\, a kids&#39\; zone with laser tag\, inflatables\, balloon art and face painting\, as well as food vendors and general merchandise vendors. The event will be held at La Bonita Park\, 1440 West Whittier Boulevard. Guests should bring their own seating. Food and drinks can be brought into the event\, however no glass containers or alcoholic beverages are permitted. Sorry\, no pets are permitted\, with the exception of service dogs.</p>\n\n<p>The 2019 4th of July event will feature live music by Soto.<br />\n<br />\n<a href="http://www.lahabracity.com/DocumentCenter/View/9218/4thofjuly2" target="_blank">Click here to view flyer</a></p>\n
LOCATION:La Bonita Park 1440 W Whittier Blvd La Habra\, CA 90631
UID:e.887.23420
SEQUENCE:3
DTSTAMP:20260422T030614Z
URL:https://business.nocchamber.com/events/details/city-of-la-habra-4th-of-july-celebration-23420
END:VEVENT

END:VCALENDAR
