BEGIN:VCALENDAR
VERSION:2.0
PRODID:-//ChamberMaster//Event Calendar 2.0//EN
METHOD:PUBLISH
X-PUBLISHED-TTL:P3D
REFRESH-INTERVAL:P3D
CALSCALE:GREGORIAN
BEGIN:VEVENT
DTSTART:20190219T233000Z
DTEND:20190220T013000Z
X-MICROSOFT-CDO-ALLDAYEVENT:FALSE
SUMMARY:City of Fullerton - Woodcrest Park Groundbreaking
DESCRIPTION:The City of Fullerton is hosting a Groundbreaking Ceremony for Woodcrest Park located at 440 W. Orangethorpe Ave.\, west of Harbor Boulevard\, east of Euclid\, just next to Woodcrest Elementary School.\n\n\n\nThe ceremony will be held on Tuesday\, February 19\, 2019 at 3:30 p.m. with construction expected to be completed by fall of 2019.
X-ALT-DESC;FMTTYPE=text/html:The City of Fullerton is hosting a Groundbreaking Ceremony for&nbsp\;Woodcrest Park located at 440 W. Orangethorpe Ave.\, west of Harbor Boulevard\, east of Euclid\, just next to Woodcrest Elementary School.<br />\n<br />\nThe ceremony will be held on Tuesday\, February 19\, 2019 at 3:30 p.m. with construction expected to be completed by fall of 2019.
LOCATION:440 W. Orangethorpe Ave. Fullerton\, CA 92832
UID:e.887.22994
SEQUENCE:3
DTSTAMP:20260422T103459Z
URL:https://business.nocchamber.com/events/details/city-of-fullerton-woodcrest-park-groundbreaking-22994
END:VEVENT

END:VCALENDAR
