BEGIN:VCALENDAR
VERSION:2.0
PRODID:-//ChamberMaster//Event Calendar 2.0//EN
METHOD:PUBLISH
X-PUBLISHED-TTL:P3D
REFRESH-INTERVAL:P3D
CALSCALE:GREGORIAN
BEGIN:VEVENT
DTSTART:20200416T000000Z
DTEND:20200416T010000Z
X-MICROSOFT-CDO-ALLDAYEVENT:FALSE
SUMMARY:City of Fullerton Webinar - Resources for Business
DESCRIPTION:Topic\nFullerton Town Hall\n\n\nDescription\n\nWe will be discussing the Economic Injury Disaster Loan\, Payroll Protection Program\, Disaster Bridge Loan\, 7a Forgiveness Program\, and other funding opportunities for your business.\n\n\nTime\n\n\nApr 15\, 2020 05:00 PM in Pacific Time (US and Canada)
X-ALT-DESC;FMTTYPE=text/html:<div class="form-group horizontal" style="box-sizing: border-box\; margin-bottom: 24px\; margin-left: 20px\; color: rgb(35\, 35\, 51)\; font-family: Lato\, Helvetica\, Arial\; font-size: 14px\;"><label class="control-label" style="box-sizing: border-box\; display: inline-block\; margin-bottom: 5px\; font-weight: 600\; float: left\; width: 80px\;">Topic</label>\n<div class="controls" style="box-sizing: border-box\; margin-left: 100px\;"><span style="box-sizing: border-box\; font-weight: 600\;">Fullerton Town Hall</span></div>\n</div>\n\n<div class="form-group horizontal" style="box-sizing: border-box\; margin-bottom: 24px\; margin-left: 20px\; color: rgb(35\, 35\, 51)\; font-family: Lato\, Helvetica\, Arial\; font-size: 14px\;"><label class="control-label" style="box-sizing: border-box\; display: inline-block\; margin-bottom: 5px\; font-weight: 600\; float: left\; width: 80px\;">Description</label>\n\n<div class="controls" style="box-sizing: border-box\; margin-left: 100px\;">We will be discussing the Economic Injury Disaster Loan\, Payroll Protection Program\, Disaster Bridge Loan\, 7a Forgiveness Program\, and other funding opportunities for your business.</div>\n</div>\n\n<div class="form-group horizontal" style="box-sizing: border-box\; margin-bottom: 0px\; margin-left: 20px\; color: rgb(35\, 35\, 51)\; font-family: Lato\, Helvetica\, Arial\; font-size: 14px\;"><label class="control-label" style="box-sizing: border-box\; display: inline-block\; margin-bottom: 5px\; font-weight: 600\; float: left\; width: 80px\;">Time</label>\n\n<div class="controls" style="box-sizing: border-box\; margin-left: 100px\;">\n<p style="box-sizing: border-box\; margin: 0px\; font-size: inherit\; line-height: 1.5\;">Apr 15\, 2020 05:00 PM in&nbsp\;<a aria-labelledby="switch_timezone webinar-timezone-title" aria-modal="true" id="switch_timezone" role="button" style="box-sizing: border-box\; background: transparent\; color: rgb(14\, 113\, 235)\; border: 0px\;" title="Change Time Zone">Pacific Time (US and Canada)</a></p>\n</div>\n</div>\n
LOCATION:Video Training Registration link: https://fullerton.zoom.us/webinar/register/WN_36tYJjU1RtSmUDfnGm3xHw
UID:e.887.24285
SEQUENCE:3
DTSTAMP:20260421T153542Z
URL:https://business.nocchamber.com/events/details/city-of-fullerton-webinar-resources-for-business-24285
END:VEVENT

END:VCALENDAR
