BEGIN:VCALENDAR
VERSION:2.0
PRODID:-//ChamberMaster//Event Calendar 2.0//EN
METHOD:PUBLISH
X-PUBLISHED-TTL:P3D
REFRESH-INTERVAL:P3D
CALSCALE:GREGORIAN
BEGIN:VEVENT
DTSTART:20190705T000000Z
DTEND:20190705T040000Z
X-MICROSOFT-CDO-ALLDAYEVENT:FALSE
SUMMARY:City of Fullerton Hosts 30th Firework Show
DESCRIPTION:The City of Fullerton's annual 4th of July Festival and Fireworks Show will be held on Thursday\, July 4\, 2019 from 5 p.m. to 9 p.m. at the Fullerton Union High School Softball Fields\, located on Lemon Street\, between Berkeley and Chapman. Admission is free.\n\n\n\nInside the event area\, participants can find kids' activities including face painting\, bounce houses\, a caricature artist\, and a stilt walker. NOMINAL FEES MAY APPLY for activities (Approximately $2 to $5).  Enjoy live music by James Intveld.\n\n\n\nFireworks begin at 9 p.m. and last for approximately 20 minutes.\nAll food is reasonably priced\, and is being offered by local charity organizations as a fundraising activity.\n\nThere is no alcoholic beverage service.\n\nNo alcohol is served or allowed in the area. All coolers will be checked. No glass containers\, no smoking\, no e-cigarettes\, no umbrellas\, and no pets (seeing eye dogs are allowed).\nParking is vailable at the following locations: the Wilshire parking structure (downtown on Wilshire\, just east of Harbor)\; the Plummer Structure (downtown on the southwest corner of Chapman and Lemon)\; and street parking throughout downtown.\n\nHandicap parking is available at each of these lots. Should a handicap person need to be dropped off\, you must have your handicap placard and go to Pomona and East Union Way where a police officer will let you in. There will be no parking in the Fullerton College structure off of Lemon. Parking at Fullerton College (including the parking structure) will NOT be allowed.\n\n\n\nFor more information call the Special Events Hotline at (714) 738-3167
X-ALT-DESC;FMTTYPE=text/html:The City of Fullerton&#39\;s annual 4th of July Festival and Fireworks Show will be held on Thursday\, July 4\, 2019 from 5 p.m. to 9 p.m. at the Fullerton Union High School Softball Fields\, located on Lemon Street\, between Berkeley and Chapman. Admission is free.<br />\n<br />\nInside the event area\, participants can find kids&#39\; activities including face painting\, bounce houses\, a caricature artist\, and a stilt walker.&nbsp\;NOMINAL FEES MAY APPLY&nbsp\;for activities (Approximately $2 to $5).&nbsp\; Enjoy live music by James Intveld.<br />\n<br />\nFireworks begin at 9 p.m. and last for approximately 20 minutes.\n<p>All food is reasonably priced\, and is being offered by local charity organizations as a fundraising activity.<br />\nThere is no alcoholic beverage service.</p>\n\n<p>No alcohol is served or allowed in the area. All coolers will be checked. No glass containers\, no smoking\, no e-cigarettes\, no umbrellas\, and no pets (seeing eye dogs are allowed).</p>\nParking is vailable at the following locations:&nbsp\;the Wilshire parking structure (downtown on Wilshire\, just east of Harbor)\; the Plummer Structure (downtown on the southwest corner of Chapman and Lemon)\; and street parking throughout downtown.<br />\nHandicap parking is available at each of these lots. Should a handicap person need to be dropped off\, you must have your handicap placard and go to&nbsp\;Pomona and&nbsp\;East Union Way&nbsp\;where a police officer will let you in. There will be no parking in the Fullerton College structure off of Lemon. Parking at Fullerton College (including the parking structure) will NOT be allowed.<br />\n<br />\nFor more information call the Special Events Hotline at (714) 738-3167
LOCATION:Fullerton Union High School Softball Field Located on Lemon\, between Berkely Ave. and Chapman Ave. Fullerton\, CA 92832
UID:e.887.23418
SEQUENCE:3
DTSTAMP:20260422T030400Z
URL:https://business.nocchamber.com/events/details/city-of-fullerton-hosts-30th-firework-show-23418
END:VEVENT

END:VCALENDAR
