BEGIN:VCALENDAR
VERSION:2.0
PRODID:-//ChamberMaster//Event Calendar 2.0//EN
METHOD:PUBLISH
X-PUBLISHED-TTL:P3D
REFRESH-INTERVAL:P3D
CALSCALE:GREGORIAN
BEGIN:VEVENT
DTSTART:20181201T200000Z
DTEND:20181202T000000Z
X-MICROSOFT-CDO-ALLDAYEVENT:FALSE
SUMMARY:City of Fullerton - Fullerton Winter Market and Shredding Day Return in Joint Event
DESCRIPTION:The City of Fullerton hosts its annual Winter Market and Shredding Day:\n\n	Performances from local dance studios\n	Local high school music groups\n	Artesian craft vendors and Food vendors\n	Fullerton Museum Center's Beer & Wine Garden\n	Toy drive and an opportunity for pictures with Santa Claus
X-ALT-DESC;FMTTYPE=text/html:The City of Fullerton hosts its annual Winter Market and Shredding Day:\n<ul>\n	<li>Performances from local dance studios</li>\n	<li>Local high school music groups</li>\n	<li>Artesian craft vendors and Food vendors</li>\n	<li>Fullerton Museum Center&rsquo\;s Beer &amp\; Wine Garden</li>\n	<li>Toy drive and an opportunity for pictures with Santa Claus</li>\n</ul>\n
LOCATION:Downtown Fullerton Plaza 301 N. Pomona\, Fullerton
UID:e.887.22786
SEQUENCE:3
DTSTAMP:20260422T120134Z
URL:https://business.nocchamber.com/events/details/city-of-fullerton-fullerton-winter-market-and-shredding-day-return-in-joint-event-22786
END:VEVENT

END:VCALENDAR
