BEGIN:VCALENDAR
VERSION:2.0
PRODID:-//ChamberMaster//Event Calendar 2.0//EN
METHOD:PUBLISH
X-PUBLISHED-TTL:P3D
REFRESH-INTERVAL:P3D
CALSCALE:GREGORIAN
BEGIN:VEVENT
DTSTART:20180830T230000Z
DTEND:20180831T033000Z
X-MICROSOFT-CDO-ALLDAYEVENT:FALSE
SUMMARY:City of Fullerton - Fullerton Market - Titan Night
DESCRIPTION:City of Fullerton is inviting the community to the Fullerton Market occurring on Thursdays from 4:00 p.m. to 8:30 p.m. until October 25\, 2018: \n\n	Live music at 6:30 p.m.\n	Fresh produce\n	Beer & wine garden at Fullerton Museum Center\n	Kids' Korner\n	Artisan craft and design vendors
X-ALT-DESC;FMTTYPE=text/html:City of Fullerton is inviting the community to the <strong>Fullerton Market</strong> occurring on Thursdays from 4:00 p.m. to 8:30 p.m. until October 25\, 2018:&nbsp\;\n<ul>\n	<li>Live music at 6:30 p.m.</li>\n	<li>Fresh produce</li>\n	<li>Beer &amp\; wine garden at Fullerton Museum Center</li>\n	<li>Kids&#39\; Korner</li>\n	<li>Artisan craft and design vendors</li>\n</ul>\n
LOCATION:Downtown Fullerton Plaza 125 E Wilshire Ave Fullerton\, CA 92832
UID:e.887.22653
SEQUENCE:3
DTSTAMP:20260422T091348Z
URL:https://business.nocchamber.com/events/details/city-of-fullerton-fullerton-market-titan-night-22653
END:VEVENT

END:VCALENDAR
