BEGIN:VCALENDAR
VERSION:2.0
PRODID:-//ChamberMaster//Event Calendar 2.0//EN
METHOD:PUBLISH
X-PUBLISHED-TTL:P3D
REFRESH-INTERVAL:P3D
CALSCALE:GREGORIAN
BEGIN:VEVENT
DTSTART:20191111T180000Z
DTEND:20191111T200000Z
X-MICROSOFT-CDO-ALLDAYEVENT:FALSE
SUMMARY:City of Fullerton 32nd Annual Veterans Day Celebration
DESCRIPTION:Multiple events will be happening in the morning. There will be a parade and a ceremony to celebrate veterans. This includes a march\, guest speakers\, patriotic songs\, a flower presentation\, and an Honor Guard.
X-ALT-DESC;FMTTYPE=text/html:Multiple events will be happening in the morning. There will be a parade and a ceremony to celebrate veterans. This includes a march\, guest speakers\, patriotic songs\, a flower presentation\, and an Honor Guard.
LOCATION:March begins at Downtown Museum Plaza 125 E. Wilshire Ave. Fullerton\, CA\, 92832 March ends at Hillcrest Park\, Ceremony begins at Hillcrest Park 1200 N. Harbor Blvd\, Fullerton\, CA\, 92832
UID:e.887.23793
SEQUENCE:3
DTSTAMP:20260421T230606Z
URL:https://business.nocchamber.com/events/details/city-of-fullerton-32nd-annual-veterans-day-celebration-23793
END:VEVENT

END:VCALENDAR
