BEGIN:VCALENDAR
VERSION:2.0
PRODID:-//ChamberMaster//Event Calendar 2.0//EN
METHOD:PUBLISH
X-PUBLISHED-TTL:P3D
REFRESH-INTERVAL:P3D
CALSCALE:GREGORIAN
BEGIN:VEVENT
DTSTART:20180925T150000Z
DTEND:20180925T190000Z
X-MICROSOFT-CDO-ALLDAYEVENT:FALSE
SUMMARY:City of Cypress - West Orange County Women's Conference
DESCRIPTION:City of Cypress will be hosting West Orange County Women's Conference with continental breakfast.
X-ALT-DESC;FMTTYPE=text/html:City of Cypress will be hosting <strong>West Orange County Women&#39\;s Conference</strong> with continental breakfast.&nbsp\;&nbsp\;
LOCATION:Cypress Community Center 5700 Orange Ave. Cypress\, CA 90630
UID:e.887.22700
SEQUENCE:3
DTSTAMP:20260422T112602Z
URL:https://business.nocchamber.com/events/details/city-of-cypress-west-orange-county-women-s-conference-22700
END:VEVENT

END:VCALENDAR
