BEGIN:VCALENDAR
VERSION:2.0
PRODID:-//ChamberMaster//Event Calendar 2.0//EN
METHOD:PUBLISH
X-PUBLISHED-TTL:P3D
REFRESH-INTERVAL:P3D
CALSCALE:GREGORIAN
BEGIN:VEVENT
DTSTART:20180207T193000Z
DTEND:20180207T210000Z
X-MICROSOFT-CDO-ALLDAYEVENT:FALSE
SUMMARY:City of Buena Park - State of the City
DESCRIPTION:The City of Buena Park is known for having ambitious goals designed to enhance the quality of life in our thriving community. At this year's State of the City Luncheon\, the Mayor Virginia Vaughn and City Manager Jim Vanderpool will recount last year's accomplishments and share City Council's innovative vision for this year.\n\nTopics will include upcoming and current City projects and programs\, the City's budget and fiscal health\, and what's the latest in the City's entertainment corridor.
X-ALT-DESC;FMTTYPE=text/html:<p>The City of Buena Park is known for having ambitious goals designed to enhance the quality of life in our thriving community. At this year&#39\;s State of the City Luncheon\, the Mayor Virginia Vaughn and City Manager Jim Vanderpool will recount last year&#39\;s accomplishments and share City Council&#39\;s innovative vision for this year.</p>\n\n<p>Topics will include upcoming and current City projects and programs\, the City&#39\;s budget and fiscal health\, and what&#39\;s the latest in the City&#39\;s entertainment corridor.</p>\n
LOCATION:Knott's Berry Farm Hotel 7675 Crescent Ave. Buena Park\, CA 90620
UID:e.887.17521
SEQUENCE:3
DTSTAMP:20260421T163818Z
URL:https://business.nocchamber.com/events/details/city-of-buena-park-state-of-the-city-17521
END:VEVENT

END:VCALENDAR
