BEGIN:VCALENDAR
VERSION:2.0
PRODID:-//ChamberMaster//Event Calendar 2.0//EN
METHOD:PUBLISH
X-PUBLISHED-TTL:P3D
REFRESH-INTERVAL:P3D
CALSCALE:GREGORIAN
BEGIN:VEVENT
DTSTART:20180818T160000Z
DTEND:20180818T200000Z
X-MICROSOFT-CDO-ALLDAYEVENT:FALSE
SUMMARY:City of Buena Park's 24th Annual Super Senior Saturday
DESCRIPTION:Super Senior Saturday - Senior Health & Wellness Expo\n\nOver 80 exhibitor's tables will include health professionals\, housing providers\, health maintenance organizations\, financial planners\, home health agencies\, living trusts\, HMO's\, elder law attorneys\, senior publications\, hospice providers\, and various other businesses and senior service organizations. Many exhibitors provide free samples\, discounts\, and individual drawings for prizes.\n\n\n\nThis event includes free admission\, entertainment\, parking and health screenings such as Glucose and Bone Density. Screenings are subject to change without notice.
X-ALT-DESC;FMTTYPE=text/html:<p><span style="font-size:14px\;"><span style="font-family:arial\;">Super Senior Saturday</span></span><span style="font-family:&quot\;Calibri&quot\;\,&quot\;sans-serif&quot\;"><o:p><span style="font-size:14px\;"><span style="font-family:arial\;">&nbsp\;- Senior Health &amp\; Wellness Expo</span></span></o:p></span></p>\n\n<p><span style="font-family:&quot\;Calibri&quot\;\,&quot\;sans-serif&quot\;"><span style="font-size:14px\;"><span style="font-family:arial\;">Over 80 exhibitor&rsquo\;s tables will include health professionals\, housing providers\, health maintenance&nbsp\;organizations\, financial planners\, home health agencies\, living trusts\, HMO&rsquo\;s\, elder law attorneys\, senior publications\, hospice providers\, and various other businesses and senior service organizations. Many&nbsp\;exhibitors provide free samples\, discounts\, and individual drawings for prizes.<br />\n<br />\nThis event includes free admission\, entertainment\, parking and health screenings such as Glucose and Bone Density. Screenings are subject to change without notice.</span></span><br />\n<o:p></o:p></span></p>\n\n<p><span style="font-family:&quot\;Calibri&quot\;\,&quot\;sans-serif&quot\;"><o:p></o:p></span></p>\n
LOCATION:Ehlers Event Center 8150 Knott Ave. Buena Park \, CA 90620
UID:e.887.22618
SEQUENCE:3
DTSTAMP:20260422T092638Z
URL:https://business.nocchamber.com/events/details/city-of-buena-park-s-24th-annual-super-senior-saturday-22618
END:VEVENT

END:VCALENDAR
