BEGIN:VCALENDAR
VERSION:2.0
PRODID:-//ChamberMaster//Event Calendar 2.0//EN
METHOD:PUBLISH
X-PUBLISHED-TTL:P3D
REFRESH-INTERVAL:P3D
CALSCALE:GREGORIAN
BEGIN:VEVENT
DTSTART:20180906T013000Z
DTEND:20180906T030000Z
X-MICROSOFT-CDO-ALLDAYEVENT:FALSE
SUMMARY:City of Buena Park - Military Service Academy Night
DESCRIPTION:The City of Buena Park will be hosting a Military Service Academy Night presented by the Office of Representative Ed Royce. \nRepresentatives from the united States Military Academies will be present to answer questions:\n\n\n	U.S. Air Force Academy - Colorado Springs\, CO\n	U.S. Merchant Marine Academy - Kings Point\, NY\n	U.S. Naval Academy - Annapolis\, MD\n	U.S. Coast Guard Academy - New London\, CT\n	U.S. Military Academy - West Point\, NY
X-ALT-DESC;FMTTYPE=text/html:The City of Buena Park will be hosting a Military Service Academy Night presented by the Office of Representative Ed Royce.&nbsp\;\n<p>Representatives from the united States Military Academies will be present to answer questions:</p>\n\n<ul>\n	<li>U.S. Air Force Academy - Colorado Springs\, CO</li>\n	<li>U.S. Merchant Marine Academy - Kings Point\, NY</li>\n	<li>U.S. Naval Academy - Annapolis\, MD</li>\n	<li>U.S. Coast Guard Academy - New London\, CT</li>\n	<li>U.S. Military Academy - West Point\, NY</li>\n</ul>\n
LOCATION:Buena Park City Hall 6650 Beach Blvd. Buena Park\, CA 90621
UID:e.887.22671
SEQUENCE:3
DTSTAMP:20260422T130019Z
URL:https://business.nocchamber.com/events/details/city-of-buena-park-military-service-academy-night-22671
END:VEVENT

END:VCALENDAR
