BEGIN:VCALENDAR
VERSION:2.0
PRODID:-//ChamberMaster//Event Calendar 2.0//EN
METHOD:PUBLISH
X-PUBLISHED-TTL:P3D
REFRESH-INTERVAL:P3D
CALSCALE:GREGORIAN
BEGIN:VEVENT
DTSTART:20180915T170000Z
DTEND:20180915T193000Z
X-MICROSOFT-CDO-ALLDAYEVENT:FALSE
SUMMARY:City of Buena Park - Memorial Grove Dedication: Honoring the memory of Barbara Jeanne O'Brien
DESCRIPTION:The Parks and Recreation Commission on behalf of the City of Buena Park invites you to the 29th Annual Memorial Grove Ceremony. This year honors the memory of Barbara Jeanne O'Brien.
X-ALT-DESC;FMTTYPE=text/html:<p><span style="font-family:arial\;"><span style="font-size:14px\;">The Parks and Recreation Commission on behalf of the City of Buena Park invites you to the 29th Annual Memorial Grove Ceremony. This year honors the memory of Barbara Jeanne O&#39\;Brien.</span></span><span style="font-family:&quot\;Calibri&quot\;\,&quot\;sans-serif&quot\;"><o:p></o:p></span></p>\n
LOCATION:Memorial Grove at Boisseranc Park 7520 Dale St. Buena Park\, CA 90620
UID:e.887.22678
SEQUENCE:3
DTSTAMP:20260422T125505Z
URL:https://business.nocchamber.com/events/details/city-of-buena-park-memorial-grove-dedication-honoring-the-memory-of-barbara-jeanne-o-brien-22678
END:VEVENT

END:VCALENDAR
