BEGIN:VCALENDAR
VERSION:2.0
PRODID:-//ChamberMaster//Event Calendar 2.0//EN
METHOD:PUBLISH
X-PUBLISHED-TTL:P3D
REFRESH-INTERVAL:P3D
CALSCALE:GREGORIAN
BEGIN:VEVENT
DTSTART;VALUE=DATE:20191117
DTEND;VALUE=DATE:20191118
TRANSP:TRANSPARENT
X-MICROSOFT-CDO-ALLDAYEVENT:TRUE
SUMMARY:City of Buena Park - Meet on Beach Multi-City Community Festival
DESCRIPTION:The first-ever Meet on Beach multi-city community festival is set to re-imagine Beach Boulevard on Sunday\, November 17 with a full day of live musical performances\, local food activations\, hands-on workshops\, and more free activities for all to enjoy. Created by the Renew Beach Boulevard Coalition\, the alliance behind the economic revitalization and transformation of the 21-mile historic corridor\, seven Orange County cities have joined together to produce a day of active and healthy fun for the surrounding communities.\nWalk\, bike\, skate or scoot along 1.5 miles of CAR-FREE Beach Boulevard connecting Knott's Berry Farm's Independence Hall all the way down to Anaheim's Youth Center.\n\n\n\nENTERTAINMENT:\n\nSatin Dollz- International pin up darlings delivering a stunning ensemble of singing and high energy tap dancing reminiscent of the WWII USO Camp Shows\n\n\n\nAll Nations Singers Native American Veterans and the Flag & Victory Song- A Native American Family Dance Troupe that exhibits Culture through Dance\, Songs\, and Cultural understanding\n\n\n\nRedboy Productions Native American Dancer- Native American family dance troupe based in Orange County featuring Fancy Dancer\, Baac Garcia\, and MC Lupe Lopez-Donaghey\, Otomi/Yaqui who will share the culture of the dance.\n\n\n\nThe Springsteen Experience- High-octane\, chronological journey recreating the most memorable moments and stage interactions throughout E STREET concert history. The EXPERIENCE is a non-stop adrenaline rush  a theatrical concert event like no other production in the replica-rock genre today.\n\n\n\nFOOD TRUCKS: VCHOS\, Baby's Badass Burgers\, The Grub Plug\, My Delight Cupcakery\, and Knott's Berry Farm!\n\n\n\nFREE ACTIVITIES:  Bike decorating\, kids bike rodeo\, rock climbing wall\,  arts and crafts. \n\n----------------------------------------------------------------\n\nPLEDGE to Ride OC Bus to Meet on Beach and receive a FREE day bus pass!\n\nTo Pledge Visit:\n\nocbus.com/beach\n\nClick here to find out more about Meet on Beach.
X-ALT-DESC;FMTTYPE=text/html:The first-ever <a href="https://www.meetonbeach.com/" target="_blank">Meet on Beach</a> multi-city community festival is set to re-imagine Beach Boulevard on Sunday\, November 17 with a full day of live musical performances\, local food activations\, hands-on workshops\, and more free activities for all to enjoy. Created by the Renew Beach Boulevard Coalition\, the alliance behind the economic revitalization and transformation of the 21-mile historic corridor\, seven Orange County cities have joined together to produce a day of active and healthy fun for the surrounding communities.\n<p>Walk\, bike\, skate or scoot along 1.5 miles of CAR-FREE Beach Boulevard&nbsp\;connecting Knott&#39\;s Berry&nbsp\;Farm&#39\;s&nbsp\;Independence Hall all the way down to Anaheim&#39\;s Youth Center.<br />\n<br />\n<strong>ENTERTAINMENT:</strong><br />\n<u>Satin Dollz</u>- International pin up darlings delivering a stunning ensemble of singing and high energy tap dancing reminiscent of the WWII USO Camp Shows<br />\n<br />\nAll Nations Singers Native American Veterans and the Flag &amp\; Victory Song- A Native American Family Dance Troupe that exhibits Culture through Dance\, Songs\, and Cultural understanding<br />\n<br />\n<u>Redboy Productions Native American Dancer</u>- Native American family dance troupe based in Orange County featuring Fancy Dancer\, Baac Garcia\, and MC Lupe Lopez-Donaghey\, Otomi/Yaqui who will share the culture of the dance.<br />\n<br />\n<u>The Springsteen Experience</u>- High-octane\, chronological journey recreating the most memorable moments and stage interactions throughout E STREET concert history. The EXPERIENCE is a non-stop adrenaline rush&hellip\; a theatrical concert event like no other production in the replica-rock genre today.<br />\n<br />\n<strong>FOOD TRUCKS</strong>: VCHOS\, Baby&#39\;s Badass Burgers\, The Grub Plug\, My Delight Cupcakery\, and Knott&#39\;s Berry Farm!<br />\n<br />\n<strong>FREE ACTIVITIES</strong>:&nbsp\; Bike decorating\, kids bike rodeo\, rock climbing wall\,&nbsp\;&nbsp\;arts and crafts.&nbsp\;<br />\n----------------------------------------------------------------<br />\nPLEDGE to Ride OC Bus to Meet on Beach and receive a FREE day bus pass!<br />\nTo Pledge Visit:<br />\n<a data-lynx-mode="hover" href="https://l.facebook.com/l.php?u=http%3A%2F%2Focbus.com%2Fbeach%3Ffbclid%3DIwAR17WajvUmjyxs1UZqL5Xat1DLKNVCpwweGRh4RNDDVAg8_pQNuySgtz4UU&amp\;h=AT1Oxy0KBiAc1SBS63bjccQ1THYr3oQ1YYQVey_6ALibNA5F-dOHeaXYX-VPxWtr1NuG0OdNz8tiT_1eJKRdzXyuCGsqw6M8bv8uVcmdSDNCLTzf4nG46GPEY16Yn01iBA" target="_blank">ocbus.com/beach</a></p>\n\n<p><a href="https://www.meetonbeach.com/" target="_blank">Click here to find out more about Meet on Beach.</a></p>\n
LOCATION:Knott's Berry Farm Independence Hall 8039 Beach Boulevard Buena Park\, CA 90620
UID:e.887.23694
SEQUENCE:3
DTSTAMP:20260421T231331Z
URL:https://business.nocchamber.com/events/details/city-of-buena-park-meet-on-beach-multi-city-community-festival-23694
END:VEVENT

END:VCALENDAR
