BEGIN:VCALENDAR
VERSION:2.0
PRODID:-//ChamberMaster//Event Calendar 2.0//EN
METHOD:PUBLISH
X-PUBLISHED-TTL:P3D
REFRESH-INTERVAL:P3D
CALSCALE:GREGORIAN
BEGIN:VEVENT
DTSTART:20191121T150000Z
DTEND:20191121T170000Z
X-MICROSOFT-CDO-ALLDAYEVENT:FALSE
SUMMARY:City of Buena Park Mayor's Prayer Breakfast
DESCRIPTION:The Buena Park Mayor's Prayer Breakfast gives the community and local clergy an opportunity to congregate and share an inspirational message to begin the holiday season.  \n\n\n\n7:00 a.m.                Coffee\n\n7:30 a.m.                Breakfast\n\nKeynote Speaker   Jeremiah Pauley\n\nMusical Guest        Daniel Rodriguez\n\nTickets                    $25.00
X-ALT-DESC;FMTTYPE=text/html:The Buena Park Mayor&#39\;s Prayer Breakfast gives the community and local clergy an opportunity to congregate&nbsp\;and share an inspirational&nbsp\;message to begin the holiday season.&nbsp\;&nbsp\;<br />\n<br />\n7:00 a.m.&nbsp\;&nbsp\;&nbsp\;&nbsp\;&nbsp\;&nbsp\;&nbsp\;&nbsp\;&nbsp\;&nbsp\;&nbsp\;&nbsp\;&nbsp\;&nbsp\;&nbsp\;&nbsp\;Coffee<br />\n7:30 a.m.&nbsp\;&nbsp\;&nbsp\;&nbsp\;&nbsp\;&nbsp\;&nbsp\;&nbsp\;&nbsp\;&nbsp\;&nbsp\;&nbsp\;&nbsp\;&nbsp\;&nbsp\;&nbsp\;Breakfast<br />\nKeynote Speaker&nbsp\; &nbsp\;Jeremiah Pauley<br />\nMusical Guest&nbsp\;&nbsp\;&nbsp\;&nbsp\;&nbsp\;&nbsp\;&nbsp\;&nbsp\;Daniel Rodriguez<br />\nTickets&nbsp\; &nbsp\; &nbsp\; &nbsp\; &nbsp\; &nbsp\; &nbsp\; &nbsp\; &nbsp\; &nbsp\; $25.00
LOCATION:Knott's Berry Farm Hotel 7675 Crescent Avenue Buena Park\, CA 90620
UID:e.887.23790
SEQUENCE:3
DTSTAMP:20260421T215757Z
URL:https://business.nocchamber.com/events/details/city-of-buena-park-mayor-s-prayer-breakfast-23790
END:VEVENT

END:VCALENDAR
