BEGIN:VCALENDAR
VERSION:2.0
PRODID:-//ChamberMaster//Event Calendar 2.0//EN
METHOD:PUBLISH
X-PUBLISHED-TTL:P3D
REFRESH-INTERVAL:P3D
CALSCALE:GREGORIAN
BEGIN:VEVENT
DTSTART:20191108T220000Z
DTEND:20191109T010000Z
X-MICROSOFT-CDO-ALLDAYEVENT:FALSE
SUMMARY:City of Buena Park Health Resource Fair with Assemblywoman Quirk-Silva
DESCRIPTION:Discuss Legislative issues important to the Orange County community while gathering with neighbors for food\, music\, activities for kids and giveaways donated by community groups and organizations. Free health screenings will also be available.
X-ALT-DESC;FMTTYPE=text/html:Discuss Legislative issues important to the Orange County community while gathering with neighbors for food\, music\, activities for kids and giveaways donated by community groups and organizations. Free health screenings will also be available. &nbsp\;
LOCATION:Ehler's Event Center\, Veterans Hall 8150 Knott Ave. Buena Park\, CA 90620
UID:e.887.23807
SEQUENCE:3
DTSTAMP:20260421T215402Z
URL:https://business.nocchamber.com/events/details/city-of-buena-park-health-resource-fair-with-assemblywoman-quirk-silva-23807
END:VEVENT

END:VCALENDAR
