BEGIN:VCALENDAR
VERSION:2.0
PRODID:-//ChamberMaster//Event Calendar 2.0//EN
METHOD:PUBLISH
X-PUBLISHED-TTL:P3D
REFRESH-INTERVAL:P3D
CALSCALE:GREGORIAN
BEGIN:VEVENT
DTSTART:20191207T180000Z
DTEND:20191208T000000Z
X-MICROSOFT-CDO-ALLDAYEVENT:FALSE
SUMMARY:City of Buena Park - Candy Caneland & Craft Faire
DESCRIPTION:This will be the 49th Annual Candy Caneland & Craft Faire. Expect fun for the whole family\, spectacular food\, and festive music. As part of the holiday tradition\, the Event Center will be transformed into a winter wonderland featuring the special guest of honor\, Santa Claus.
X-ALT-DESC;FMTTYPE=text/html:This will be the 49th Annual Candy Caneland &amp\; Craft Faire. Expect fun for the whole family\, spectacular food\, and festive music. As part of the holiday tradition\, the Event Center will be transformed into a winter wonderland featuring the special guest of honor\, Santa Claus.
LOCATION:Ehlers Event Center 8150 Knott Ave. Buena Park\, CA\, 90620
UID:e.887.23762
SEQUENCE:3
DTSTAMP:20260421T203828Z
URL:https://business.nocchamber.com/events/details/city-of-buena-park-candy-caneland-craft-faire-23762
END:VEVENT

END:VCALENDAR
