BEGIN:VCALENDAR
VERSION:2.0
PRODID:-//ChamberMaster//Event Calendar 2.0//EN
METHOD:PUBLISH
X-PUBLISHED-TTL:P3D
REFRESH-INTERVAL:P3D
CALSCALE:GREGORIAN
BEGIN:VEVENT
DTSTART:20180930T020000Z
DTEND:20180930T040000Z
X-MICROSOFT-CDO-ALLDAYEVENT:FALSE
SUMMARY:City of Buena Park - 80s Costume Dance Party with Pop Gun Rerun
DESCRIPTION:The City of Buena Park is kicking off Boo-uena Park\, a city-wide celebration of Halloween\, with an eighties costume dance party featuring Pop Gun Rerun\, performing all your eighties favorites. Beer\, wine\, soft drinks\, and light refreshments will be available for purchase inside the venue.
X-ALT-DESC;FMTTYPE=text/html:<p><span style="font-size:14px\;"><span style="font-family:arial\;">The City of Buena Park is kicking off Boo-uena Park\, a city-wide celebration of Halloween\, with&nbsp\;an eighties costume dance party featuring Pop Gun Rerun\, performing all your eighties favorites.&nbsp\;</span></span><span style="font-size:14px\;"><span style="font-family:arial\;">Beer\, wine\, soft drinks\, and light refreshments will be available for purchase inside the venue. </span></span><span style="font-family:&quot\;Calibri&quot\;\,&quot\;sans-serif&quot\;"><o:p></o:p></span></p>\n
LOCATION:Ehlers Event Center 8150 Knott Ave. Buena Park \, California 90620
UID:e.887.22705
SEQUENCE:3
DTSTAMP:20260422T112630Z
URL:https://business.nocchamber.com/events/details/city-of-buena-park-80s-costume-dance-party-with-pop-gun-rerun-22705
END:VEVENT

END:VCALENDAR
