BEGIN:VCALENDAR
VERSION:2.0
PRODID:-//ChamberMaster//Event Calendar 2.0//EN
METHOD:PUBLISH
X-PUBLISHED-TTL:P3D
REFRESH-INTERVAL:P3D
CALSCALE:GREGORIAN
BEGIN:VEVENT
DTSTART:20181201T180000Z
DTEND:20181202T000000Z
X-MICROSOFT-CDO-ALLDAYEVENT:FALSE
SUMMARY:City of Buena Park - 48th Annual Candy Caneland & Craft Faire
DESCRIPTION:The City of Buena Park is hsoting their 48th Annual Candy Caneland and Craft Faire at Ehlers Event Center:\n\n	Free activities such as snow slides\, jump houses\, kids craft area\n	Stage entertainment\n	Petting zoo\n	Meeting Santa Claus\n	Over 100 craft and food vendors\n\nDue to limited event parking\, there will be free Ehlers Express shuttle bus between the Ehlers Community Center and William Peak Park. The ride is less than five minutes from the event and the shuttles are operated by the Community Services staff.
X-ALT-DESC;FMTTYPE=text/html:The City of Buena Park is hsoting their 48th Annual Candy Caneland and Craft Faire at Ehlers Event Center:\n<ul>\n	<li>Free activities such as snow slides\, jump houses\, kids craft area</li>\n	<li>Stage entertainment</li>\n	<li>Petting zoo</li>\n	<li>Meeting Santa Claus</li>\n	<li>Over 100 craft and food vendors</li>\n</ul>\nDue to limited event parking\, there will be free Ehlers Express shuttle bus between the Ehlers Community Center and William Peak Park. The ride is less than five minutes from the event and the shuttles are operated by the Community Services staff.
LOCATION:Ehlers Event Center 8150 Knott Ave. Buena Park\, CA 90620 For shuttle transportation: William Peak Park 7225 El Dorado Dr.
UID:e.887.22849
SEQUENCE:3
DTSTAMP:20260422T120155Z
URL:https://business.nocchamber.com/events/details/city-of-buena-park-48th-annual-candy-caneland-craft-faire-22849
END:VEVENT

END:VCALENDAR
