BEGIN:VCALENDAR
VERSION:2.0
PRODID:-//ChamberMaster//Event Calendar 2.0//EN
METHOD:PUBLISH
X-PUBLISHED-TTL:P3D
REFRESH-INTERVAL:P3D
CALSCALE:GREGORIAN
BEGIN:VEVENT
DTSTART:20190206T193000Z
DTEND:20190206T220000Z
X-MICROSOFT-CDO-ALLDAYEVENT:FALSE
SUMMARY:City of Buena Park - 2019 State of the City Luncheon
DESCRIPTION:2019 State of the City Luncheon recount last year's accomplishments and share the City Council's innovative vision for next year: \n\n	Upcoming and current City projects and programs\n	The City's budget and fiscal health\n	What's happening in the City's entertainment corridor
X-ALT-DESC;FMTTYPE=text/html:2019 State of the City Luncheon recount last year&#39\;s accomplishments and share the City Council&#39\;s innovative vision for next year:&nbsp\;\n<ul>\n	<li>Upcoming and current City projects and programs</li>\n	<li>The City&#39\;s budget and fiscal health</li>\n	<li>What&#39\;s happening in the City&#39\;s entertainment corridor</li>\n</ul>\n
LOCATION:Knott's Berry Farm Hotel 7675 Crescent Ave. Buena Park\, CA 90620
UID:e.887.22891
SEQUENCE:3
DTSTAMP:20260422T092020Z
URL:https://business.nocchamber.com/events/details/city-of-buena-park-2019-state-of-the-city-luncheon-22891
END:VEVENT

END:VCALENDAR
