BEGIN:VCALENDAR
VERSION:2.0
PRODID:-//ChamberMaster//Event Calendar 2.0//EN
METHOD:PUBLISH
X-PUBLISHED-TTL:P3D
REFRESH-INTERVAL:P3D
CALSCALE:GREGORIAN
BEGIN:VEVENT
DTSTART:20170318T160000Z
DTEND:20170318T230000Z
X-MICROSOFT-CDO-ALLDAYEVENT:FALSE
SUMMARY:City of Brea - Spring Craft Boutique
DESCRIPTION:Unique\, one of a kind crafts\, seasonal and year round gifts and decor\, wearable art\, jewelry\, florals\, baby items\, tasty goodies and much more from over 250 vendors. Food Alley and Center Cafe open for this event.
X-ALT-DESC;FMTTYPE=text/html:Unique\, one of a kind crafts\, seasonal and year round gifts and decor\, wearable art\, jewelry\, florals\, baby items\, tasty goodies and much more from over 250 vendors. Food Alley and Center Cafe open for this event.<br />\n<br />\n&nbsp\;
LOCATION:Brea Community Center 695 E. Madison Way Brea\, CA 92821
UID:e.887.15662
SEQUENCE:3
DTSTAMP:20260421T163541Z
URL:https://business.nocchamber.com/events/details/city-of-brea-spring-craft-boutique-15662
END:VEVENT

END:VCALENDAR
