BEGIN:VCALENDAR
VERSION:2.0
PRODID:-//ChamberMaster//Event Calendar 2.0//EN
METHOD:PUBLISH
X-PUBLISHED-TTL:P3D
REFRESH-INTERVAL:P3D
CALSCALE:GREGORIAN
BEGIN:VEVENT
DTSTART:20190809T160000Z
DTEND:20190809T193000Z
X-MICROSOFT-CDO-ALLDAYEVENT:FALSE
SUMMARY:Chino Hills Small Business Workshop
DESCRIPTION:This workshop is designed to provide important free resources to small business owners to start\, grow\, and succeed in today's economy. Topics include accessing capital\, how to start your business\, complying to new legislation as a business owner\, free resources to help your small business\, and more.\n\n\n\nRSVP is required.
X-ALT-DESC;FMTTYPE=text/html:This workshop is designed to provide important free resources to small business owners to start\, grow\, and succeed in today&#39\;s economy. Topics include accessing capital\, how to start your business\, complying to new legislation as a business owner\, free resources to help your small business\, and more.<br />\n<br />\n<a href="https://docs.google.com/forms/d/e/1FAIpQLSf3-oFG0wdHScdChMzYSwavCIuequWJEDOBrvgORyFO9VOwPQ/viewform" target="_blank">RSVP is required.</a>
LOCATION:Chino Hills Community Center Great Oak Hall Rm A and B 14250 Peyton Drive Chino Hills\, CA 91709
UID:e.887.23659
SEQUENCE:3
DTSTAMP:20260422T015247Z
URL:https://business.nocchamber.com/events/details/chino-hills-small-business-workshop-23659
END:VEVENT

END:VCALENDAR
