BEGIN:VCALENDAR
VERSION:2.0
PRODID:-//ChamberMaster//Event Calendar 2.0//EN
METHOD:PUBLISH
X-PUBLISHED-TTL:P3D
REFRESH-INTERVAL:P3D
CALSCALE:GREGORIAN
BEGIN:VEVENT
DTSTART:20190821T160000Z
DTEND:20190821T180000Z
X-MICROSOFT-CDO-ALLDAYEVENT:FALSE
SUMMARY:China Import and Export Fair 2019
DESCRIPTION:The Chamber\, in partnership with the China Foreign Trade Centre (Group)\, invites you to learn about the  any opportunities available to Southern California business at the 2019 China Import and Export Fair\, also known as the Canton Fair.\n\n\n\nAll businesses are invited\, in particular those related to the beauty and cosmetics\, fashion and design and gifts industries. The fair is an opportunity for Southern California companies to exhibit or source products in China.\n\n\n\nClick here for the full flyer.
X-ALT-DESC;FMTTYPE=text/html:The Chamber\, in partnership with the China Foreign Trade Centre (Group)\, invites you to learn about the&nbsp\; any opportunities available to Southern California business at the 2019 China Import and Export Fair\, also known as the Canton Fair.<br />\n<br />\nAll businesses are invited\, in particular those related to the beauty and cosmetics\, fashion and design and gifts industries. The fair is an opportunity for Southern California companies to exhibit or source products in China.<br />\n<br />\n<a href="https://chambermaster.blob.core.windows.net/userfiles/UserFiles/chambers/887/File/19_CantonFairBriefing2.pdf">Click here for the full flyer.</a>
LOCATION:Los Angeles Area Chamber of Commerce 350 S. Bixel St. Los Angeles\, CA 90017
UID:e.887.23661
SEQUENCE:3
DTSTAMP:20260422T015227Z
URL:https://business.nocchamber.com/events/details/china-import-and-export-fair-2019-23661
END:VEVENT

END:VCALENDAR
