BEGIN:VCALENDAR
VERSION:2.0
PRODID:-//ChamberMaster//Event Calendar 2.0//EN
METHOD:PUBLISH
X-PUBLISHED-TTL:P3D
REFRESH-INTERVAL:P3D
CALSCALE:GREGORIAN
BEGIN:VEVENT
DTSTART:20181213T020000Z
DTEND:20181213T040000Z
X-MICROSOFT-CDO-ALLDAYEVENT:FALSE
SUMMARY:CF Dance Academy - The Nutcracker
DESCRIPTION:The CF Dance Academy is hosting its 13th Annual Presentation of The Nutcracker. The story follows a young girl\, Clara\, and her magical Christmas Eve in a world filled with life-sized dolls\, colossal mice and waltzing flowers. Clara and her beloved Nutcracker take the audience on a journey to the fabulous Land of Sweets.
X-ALT-DESC;FMTTYPE=text/html:The CF Dance Academy is hosting its 13th Annual Presentation of <em>The Nutcracker</em>. The story follows a young girl\, Clara\, and her magical Christmas Eve in a world filled with life-sized dolls\, colossal mice and waltzing flowers. Clara and her beloved Nutcracker take the audience on a journey to the fabulous Land of Sweets.
LOCATION:Muckenthaler Cultural Center 1201 W. Malvern Ave. Fullerton\, CA 92832
UID:e.887.22887
SEQUENCE:3
DTSTAMP:20260422T113954Z
URL:https://business.nocchamber.com/events/details/cf-dance-academy-the-nutcracker-22887
END:VEVENT

END:VCALENDAR
