BEGIN:VCALENDAR
VERSION:2.0
PRODID:-//ChamberMaster//Event Calendar 2.0//EN
METHOD:PUBLISH
X-PUBLISHED-TTL:P3D
REFRESH-INTERVAL:P3D
CALSCALE:GREGORIAN
BEGIN:VEVENT
DTSTART:20200625T173000Z
DTEND:20200625T180000Z
X-MICROSOFT-CDO-ALLDAYEVENT:FALSE
SUMMARY:Certifications for Your Business
DESCRIPTION:Gain an advantage over your competitors by obtaining certifications for your business. Attend this webinar and discover how securing the designation of Small Business\, Woman-Owned\, Minority-Owned\, or Disabled Veteran Business Enterprise can help you do business with some of the most reputable government agencies\, prime contractors and Fortune 500 companies.\n\nYou will be sent the webinar link the day before the webinar.
X-ALT-DESC;FMTTYPE=text/html:<p style="margin-top: 0px\; margin-bottom: 10px\; line-height: 23.2px\; color: rgb(0\, 0\, 0)\; font-family: Lato\, Arial\, Helvetica\, sans-serif\; font-size: 16px\;"><span style="font-size:14px\;">Gain an advantage over your competitors by obtaining certifications for your business. Attend this webinar and discover how securing the designation of Small Business\, Woman-Owned\, Minority-Owned\, or Disabled Veteran Business Enterprise can help you do business with some of the most reputable government agencies\, prime contractors and Fortune 500 companies.</span></p>\n\n<p style="margin-top: 0px\; margin-bottom: 10px\; line-height: 23.2px\; color: rgb(0\, 0\, 0)\; font-family: Lato\, Arial\, Helvetica\, sans-serif\; font-size: 16px\;"><span style="font-size:14px\;">You will be sent the webinar link the day before the webinar.</span></p>\n
LOCATION:Online Webinar
UID:e.887.24429
SEQUENCE:3
DTSTAMP:20260421T142443Z
URL:https://business.nocchamber.com/events/details/certifications-for-your-business-24429
END:VEVENT

END:VCALENDAR
