BEGIN:VCALENDAR
VERSION:2.0
PRODID:-//ChamberMaster//Event Calendar 2.0//EN
METHOD:PUBLISH
X-PUBLISHED-TTL:P3D
REFRESH-INTERVAL:P3D
CALSCALE:GREGORIAN
BEGIN:VEVENT
DTSTART:20200311T010000Z
DTEND:20200311T034500Z
X-MICROSOFT-CDO-ALLDAYEVENT:FALSE
SUMMARY:Cerritos: SCORE Workshop - Make a DIY Video for Your Business
DESCRIPTION:Roni Ramos from Harmony 3 Productions is the presenter of this SCORE workshop which covers the best tips\, tricks\, and apps to use in order to make a DIY video for your business from your smart phone. \n\nWhat you will learn: \n\n\n\n	Tools and techniques for making your own videos\n	What is the best length for online video\n	Lighting and sound tips for better video\n	Information on apps that make it easy\n	Actionable steps to market your video online
X-ALT-DESC;FMTTYPE=text/html:Roni Ramos from Harmony 3 Productions is the presenter of this SCORE workshop which covers the best tips\, tricks\, and apps to use in order to make a DIY video for your business from your smart phone.&nbsp\;\n<div>\n<p>What you will learn:&nbsp\;</p>\n</div>\n\n<ul type="disc">\n	<li>Tools and techniques for making your own videos</li>\n	<li>What is the best length for online video</li>\n	<li>Lighting and sound tips for better video</li>\n	<li>Information on apps&nbsp\;that make it easy</li>\n	<li>Actionable steps to market your video online&nbsp\;</li>\n</ul>\n
LOCATION:SELACO WBD Cerritos (VM Beard) 10900 E.183rd St. Suite 350 Cerritos\, CA 90703
UID:e.887.24230
SEQUENCE:3
DTSTAMP:20260421T165115Z
URL:https://business.nocchamber.com/events/details/cerritos-score-workshop-make-a-diy-video-for-your-business-24230
END:VEVENT

END:VCALENDAR
