BEGIN:VCALENDAR
VERSION:2.0
PRODID:-//ChamberMaster//Event Calendar 2.0//EN
METHOD:PUBLISH
X-PUBLISHED-TTL:P3D
REFRESH-INTERVAL:P3D
CALSCALE:GREGORIAN
BEGIN:VEVENT
DTSTART:20190530T200000Z
DTEND:20190531T023000Z
X-MICROSOFT-CDO-ALLDAYEVENT:FALSE
SUMMARY:Center for Oral Health and Public History 50th Anniversary
DESCRIPTION:The Lawrence de Graaf Center for Oral and Public History is celebrating its 50th Anniversary on Saturday\, May 4\, 2019 at California State University\, Fullerton. The afternoon event will include speakers as part of the Hansen Lecture Series at the Titan Student Union\, Titan Theater\, followed by the reception at the George G. Golleher Alumni House.\n\n\n\nPlease RSVP to coph@fullerton.edu or by phone to (657) 278-3580.
X-ALT-DESC;FMTTYPE=text/html:The Lawrence de Graaf Center for Oral and Public History is celebrating its 50th Anniversary on Saturday\, May 4\, 2019 at California State University\, Fullerton. The afternoon event will include speakers as part of the Hansen Lecture Series at the Titan Student Union\, Titan Theater\, followed by the reception at the George G. Golleher Alumni House.<br />\n<br />\nPlease RSVP to coph@fullerton.edu or by phone to (657) 278-3580.
LOCATION:California State University\, Fullerton 800 N. State College Blvd. Fullerton\, CA 92831 Titan Student Union\, Titan Theater from 1:00 p.m. to 4:30 p.m. George G. Golleher Alumni House from 5:00 p.m. to 7:30 p.m.
UID:e.887.23127
SEQUENCE:3
DTSTAMP:20260422T054935Z
URL:https://business.nocchamber.com/events/details/center-for-oral-health-and-public-history-50th-anniversary-23127
END:VEVENT

END:VCALENDAR
