BEGIN:VCALENDAR
VERSION:2.0
PRODID:-//ChamberMaster//Event Calendar 2.0//EN
METHOD:PUBLISH
X-PUBLISHED-TTL:P3D
REFRESH-INTERVAL:P3D
CALSCALE:GREGORIAN
BEGIN:VEVENT
DTSTART:20180302T013000Z
DTEND:20180302T050000Z
X-MICROSOFT-CDO-ALLDAYEVENT:FALSE
SUMMARY:Celebrating the Legacy of Orange County's Political History
DESCRIPTION:Join California State University\, Fullerton for a special dinner and program to celebrate the legacy of Orange County's political history by honoring the significant contributions of:\n\n \nThe Honorable Richard C. "Dick" Ackerman\, California State Senate (ret.) \n\nWylie A. Aitken\, former Chair\, Democratic Foundation of Orange County\n\nTom Fuentes\, former Chair\, Republican Party of Orange County (posthumously)
X-ALT-DESC;FMTTYPE=text/html:Join California State University\, Fullerton for a special dinner and program to celebrate the legacy of Orange County&#39\;s political history by honoring the significant contributions of:<br />\n&nbsp\;\n<div>The Honorable Richard C. &quot\;Dick&quot\; Ackerman\, California State Senate (ret.)&nbsp\;</div>\n\n<div>Wylie A. Aitken\, former Chair\, Democratic Foundation of Orange County</div>\n\n<div>Tom Fuentes\, former Chair\, Republican Party of Orange County (posthumously)&nbsp\;</div>\n<br />\n&nbsp\;
LOCATION:Summit House Restaurant 2000 E. Bastanchury Rd. Fullerton\, CA 92835
UID:e.887.17577
SEQUENCE:3
DTSTAMP:20260421T213353Z
URL:https://business.nocchamber.com/events/details/celebrating-the-legacy-of-orange-county-s-political-history-17577
END:VEVENT

END:VCALENDAR
