BEGIN:VCALENDAR
VERSION:2.0
PRODID:-//ChamberMaster//Event Calendar 2.0//EN
METHOD:PUBLISH
X-PUBLISHED-TTL:P3D
REFRESH-INTERVAL:P3D
CALSCALE:GREGORIAN
BEGIN:VEVENT
DTSTART:20190624T220000Z
DTEND:20190625T000000Z
X-MICROSOFT-CDO-ALLDAYEVENT:FALSE
SUMMARY:CDLAC & CTCAC Regulations Revision Workshop
DESCRIPTION:The California Debt Limit Allocation Committee (CDLAC) & California Tax Credit Allocation Committee (CTCAC) Regulations Revision Workshop\, hosted by Treasurer Fiona Ma\, is designed to provide the public an opportunity to provide input on the CDLAC and CTCAC regulations as the Treasurer seeks to revise them to meet her housing and economic development goals.\n\nTopics include: Overview of the Treasurer's housing and economic development goals and discussion on CDLAC and CTCAC regulations to align with those goals\n\nInvited to speak: Fiona Ma\, Treasurer\; Jovan Agee\, Deputy Treasurer\; Anthony Zeto\, CTCAC\; Evan Kass\, CDLAC\n\n\n\nEvent is sponsored by State Treasurer Fiona Ma.\n\nThe State Treasurer's Office complies with the Americans With Disabilities Act (ADA) by ensuring that the facilities are accessible to persons with disabilities\, and providing this notice and information given to the members of STO in appropriate alternative formats when requested. If you need further assistance\, including disability-related modifications or accommodations\, you may contact STO no later than five calendar days before the event at (916) 653-2995.
X-ALT-DESC;FMTTYPE=text/html:<p>The California Debt Limit Allocation Committee (CDLAC) &amp\; California Tax Credit Allocation Committee (CTCAC) Regulations Revision Workshop\, hosted by Treasurer Fiona Ma\, is designed to provide the public an opportunity to provide input on the CDLAC and CTCAC regulations as the Treasurer seeks to revise them to meet her housing and economic development goals.</p>\n\n<p>Topics include: Overview of the Treasurer&rsquo\;s housing and economic development goals and discussion on CDLAC and CTCAC regulations to align with those goals</p>\n\n<p>Invited to speak: Fiona Ma\, Treasurer\; Jovan Agee\, Deputy Treasurer\; Anthony Zeto\, CTCAC\; Evan Kass\, CDLAC<br />\n<br />\nEvent is sponsored by State Treasurer Fiona Ma.<br />\nThe State Treasurer&rsquo\;s Office complies with the Americans With Disabilities Act (ADA) by ensuring that the facilities are accessible to persons with disabilities\, and providing this notice and information given to the members of STO in appropriate alternative formats when requested. If you need further assistance\, including disability-related modifications or accommodations\, you may contact STO no later than five calendar days before the event at (916) 653-2995.</p>\n
LOCATION:Buena Park City Hall Council Chamber 6550 Beach Blvd. Buena Park\, CA 90622
UID:e.887.23397
SEQUENCE:3
DTSTAMP:20260422T041454Z
URL:https://business.nocchamber.com/events/details/cdlac-ctcac-regulations-revision-workshop-23397
END:VEVENT

END:VCALENDAR
