BEGIN:VCALENDAR
VERSION:2.0
PRODID:-//ChamberMaster//Event Calendar 2.0//EN
METHOD:PUBLISH
X-PUBLISHED-TTL:P3D
REFRESH-INTERVAL:P3D
CALSCALE:GREGORIAN
BEGIN:VEVENT
DTSTART:20190516T183000Z
DTEND:20190516T203000Z
X-MICROSOFT-CDO-ALLDAYEVENT:FALSE
SUMMARY:Carbon Offsets Opportunities Lunch & Learn in Irvine
DESCRIPTION:There will be an educational Lunch & Learn session on May 16th that will provide an overview of the California Air Resources Board's (CARB) emissions trading program\, widely known as the Cap-and-Trade Program\, and examine the role of carbon offsets in the program.\nCARB continues to move forward with implementing its existing Compliance Offset Protocols and may consider additional protocol types through its public process in the future that can be utilized by California companies for a portion of their compliance with the State's stringent GHG regulations.\n\nIn addition\, speakers will address general sustainability initiatives and carbon-footprint reduction strategies for California businesses and organizations beyond Cap & Trade.\n\nTopics to be covered in this fast-paced Sustain SoCal Trending event includes:\n\n\n	Overview of the current status of Cap-and-Trade in California\n	Currently available CARB-compliant carbon offset acquisition opportunities\n	Update potential new Cap & Trade complient carbon offset opportunities\n	Carbon accounting and methodology and related financial tools\n	Emissions trading program platforms\, including international transaction platforms\n	International decarbonization initiatives\n\n\nGuest Speakers:\n\nJason A. Gray\, Esq.\, Chief\, Climate Change Program Evaluation Branch\, Industrial Strategies Div.\, California Air Resources Board (CARB)\n\n\n\nEmily Warms\, Manager Investments & Operations\, New Forests Inc.\n\n\n\nJohn O. Niles\, Director\, The Carbon Institute\n\n\n\nAlessandra Simiema\, Founder & CFO\, Brasil Mata Viva (BMV)\n\n\n\nLeslie Williams\, Partner\, CKR Law (Moderator)\n\n\nSeating for Trending Series events is very limited and often sell-out quickly\, so please reserve your spot at your earliest opportunity if you would like to attend.\n\nThere is no onsite registration for this event. Sustain SoCal's Trending...Lunch & Learn series is free for Sustain SoCal members and $30 for non-members.
X-ALT-DESC;FMTTYPE=text/html:There will be an educational Lunch &amp\; Learn session on May 16th that will provide&nbsp\;an overview of the California Air Resources Board&#39\;s (CARB) emissions trading program\, widely known as the Cap-and-Trade Program\, and examine the role of carbon offsets in the program.\n<p>CARB continues to move forward with implementing its existing Compliance Offset Protocols and may consider additional protocol types through its public process in the future that can be utilized by California companies for a portion of their compliance with the State&#39\;s stringent GHG regulations.</p>\n\n<p>In addition\, speakers will address general sustainability initiatives and carbon-footprint reduction strategies for California businesses and organizations beyond Cap &amp\; Trade.</p>\n\n<p>Topics to be covered in this fast-paced Sustain SoCal Trending event includes:</p>\n\n<ul type="disc">\n	<li>Overview of the current status of Cap-and-Trade in California</li>\n	<li>Currently available CARB-compliant carbon offset acquisition opportunities</li>\n	<li>Update potential new Cap &amp\; Trade complient carbon offset opportunities</li>\n	<li>Carbon accounting and methodology and related financial tools</li>\n	<li>Emissions trading program platforms\, including international&nbsp\;transaction platforms</li>\n	<li>International decarbonization initiatives</li>\n</ul>\n\n<p>Guest Speakers:</p>\n\n<h4>Jason A. Gray\, Esq.\,&nbsp\;Chief\, Climate Change Program Evaluation Branch\,&nbsp\;Industrial Strategies Div.\,&nbsp\;California Air Resources Board (CARB)<br />\n<br />\nEmily Warms\, Manager Investments &amp\; Operations\,&nbsp\;New Forests Inc.<br />\n<br />\nJohn O. Niles\,&nbsp\;Director\, The Carbon Institute<br />\n<br />\nAlessandra Simiema\, Founder &amp\; CFO\,&nbsp\;Brasil Mata Viva (BMV)<br />\n<br />\nLeslie Williams\, Partner\,&nbsp\;CKR Law&nbsp\;(Moderator)</h4>\n<br />\nSeating for Trending Series events is very limited and often sell-out quickly\, so please reserve your spot at your earliest opportunity if you would like to attend.<br />\nThere is no onsite registration for this event. Sustain SoCal&#39\;s Trending...Lunch &amp\; Learn series is free for Sustain SoCal members and $30 for non-members.
LOCATION:The Screening Room at UC Irvine Applied Innovation 5141 California Ave. #250 Irvine\, CA 92617
UID:e.887.23301
SEQUENCE:3
DTSTAMP:20260422T053411Z
URL:https://business.nocchamber.com/events/details/carbon-offsets-opportunities-lunch-learn-in-irvine-23301
END:VEVENT

END:VCALENDAR
