BEGIN:VCALENDAR
VERSION:2.0
PRODID:-//ChamberMaster//Event Calendar 2.0//EN
METHOD:PUBLISH
X-PUBLISHED-TTL:P3D
REFRESH-INTERVAL:P3D
CALSCALE:GREGORIAN
BEGIN:VEVENT
DTSTART;VALUE=DATE:20190325
DTEND;VALUE=DATE:20190330
TRANSP:TRANSPARENT
X-MICROSOFT-CDO-ALLDAYEVENT:TRUE
SUMMARY:Camp Hillcrest Spring Break Camp
DESCRIPTION:Camp Hillcrest Day Camp is returning during Spring Break. Trained staff supervise campers for outdoor fun\, arts and crafts\, and a field trip.
X-ALT-DESC;FMTTYPE=text/html:<p>Camp Hillcrest Day Camp is returning during Spring Break. Trained staff supervise campers for outdoor fun\, arts and crafts\, and a field trip.&nbsp\;</p>\n
LOCATION:Hillcrest Recreation Center 1155 North Lemon St. Fullerton\, CA 92835
UID:e.887.23005
SEQUENCE:3
DTSTAMP:20260422T080546Z
URL:https://business.nocchamber.com/events/details/camp-hillcrest-spring-break-camp-23005
END:VEVENT

END:VCALENDAR
