BEGIN:VCALENDAR
VERSION:2.0
PRODID:-//ChamberMaster//Event Calendar 2.0//EN
METHOD:PUBLISH
X-PUBLISHED-TTL:P3D
REFRESH-INTERVAL:P3D
CALSCALE:GREGORIAN
BEGIN:VEVENT
DTSTART;VALUE=DATE:20191216
DTEND;VALUE=DATE:20191217
TRANSP:TRANSPARENT
X-MICROSOFT-CDO-ALLDAYEVENT:TRUE
SUMMARY:CalWORKs Training Academy
DESCRIPTION:The CalWORKs Training Academy focuses on innovative and effective ways to ensure the CalWORKs program continues to successfully assist California's families and children in need.\n\nThe Training Academy's ultimate goal is to provide attendees with the vital information and tools necessary so that they may continue to uphold the core values of the CalWORKs program and successfully engage and serve CalWORKs families.\n\nThe next Training Academy will be held December 16-18\, 2019 at the Hilton Orange County/Costa Mesa. Please check back for updates!
X-ALT-DESC;FMTTYPE=text/html:<p>The CalWORKs Training Academy focuses on innovative and effective ways to ensure the CalWORKs program continues to successfully assist California&#39\;s families and children in need.</p>\n\n<p>The Training Academy&#39\;s ultimate goal is to provide attendees with the vital information and tools necessary so that they may continue to uphold the core values of the CalWORKs program and successfully engage and serve CalWORKs families.</p>\n\n<p>The next Training Academy will be held December 16-18\, 2019 at the Hilton Orange County/Costa Mesa. Please check back for updates!</p>\n
LOCATION:Hilton Orange County/Costa Mesa 3050 Bristol St. Costa Mesa\, CA 92626
UID:e.887.23462
SEQUENCE:3
DTSTAMP:20260421T202509Z
URL:https://business.nocchamber.com/events/details/calworks-training-academy-23462
END:VEVENT

END:VCALENDAR
