BEGIN:VCALENDAR
VERSION:2.0
PRODID:-//ChamberMaster//Event Calendar 2.0//EN
METHOD:PUBLISH
X-PUBLISHED-TTL:P3D
REFRESH-INTERVAL:P3D
CALSCALE:GREGORIAN
BEGIN:VEVENT
DTSTART:20200506T220000Z
DTEND:20200506T230000Z
X-MICROSOFT-CDO-ALLDAYEVENT:FALSE
SUMMARY:CalNonprofits - COVID-19 Legislative Town Hall with Assemblymembers Sharon Quirk-Silva and Cottie Petrie-Norris
DESCRIPTION:Join us the virtual town hall via Zoom where you'll hear directly from the California lawmakers representing your area and CalNonprofits leaders on what's going on in Sacramento and at the federal level in response to COVID-19 and how these policies impact nonprofits.\n\n\n\nSpeakers:\n\nAssemblywoman Cottie Petrie-Norris (D-74)\n\nAssemblywoman Sharon Quirk-Silva (D-65)\n\nAnjela Ponce\, Executive Vice President and Founder\, Integrity Housing\n\nJan Masaoka\, CEO\, CalNonprofits\n\nLucy Salcido Carter\, Public Policy Director\, CalNonprofits\n\n\n\nClick here to register.
X-ALT-DESC;FMTTYPE=text/html:Join us the virtual town hall via Zoom where you&#39\;ll hear directly from the California lawmakers representing your area and CalNonprofits leaders on what&rsquo\;s going on in Sacramento and at the federal level in response to COVID-19 and how these policies impact nonprofits.<br />\n<br />\n<strong>Speakers:</strong><br />\nAssemblywoman Cottie Petrie-Norris (D-74)<br />\nAssemblywoman Sharon Quirk-Silva (D-65)<br />\nAnjela Ponce\, Executive Vice President and Founder\, Integrity Housing<br />\nJan Masaoka\, CEO\, CalNonprofits<br />\nLucy Salcido Carter\, Public Policy Director\, CalNonprofits<br />\n<br />\n<a href="https://us02web.zoom.us/webinar/register/1415880205357/WN_RF4XqYF2RrOYsEVxpH8dzw" target="_blank">Click here to register.</a>
LOCATION:Zoom Click here to register.
UID:e.887.24333
SEQUENCE:3
DTSTAMP:20260421T144433Z
URL:https://business.nocchamber.com/events/details/calnonprofits-covid-19-legislative-town-hall-with-assemblymembers-sharon-quirk-silva-and-cottie-petrie-norris-24333
END:VEVENT

END:VCALENDAR
