BEGIN:VCALENDAR
VERSION:2.0
PRODID:-//ChamberMaster//Event Calendar 2.0//EN
METHOD:PUBLISH
X-PUBLISHED-TTL:P3D
REFRESH-INTERVAL:P3D
CALSCALE:GREGORIAN
BEGIN:VEVENT
DTSTART:20190222T230000Z
DTEND:20190223T040000Z
X-MICROSOFT-CDO-ALLDAYEVENT:FALSE
SUMMARY:Calita Cafe Ribbon Cutting
DESCRIPTION:Join us for a ribbon cutting ceremony to celebrate the grand opening of Calita Cafe in Downtown Fullerton on Friday\, February 22\, at 3:30 p.m.\n\nAttendees will enjoy opportunities for giveaways\, promotional offers and a DJ to celebrate!
X-ALT-DESC;FMTTYPE=text/html:<span style="color: rgb(68\, 68\, 68)\; font-family: Arial\, Helvetica\, sans-serif\; font-size: 14px\;">Join us for a ribbon cutting ceremony to celebrate the grand opening of <a href="https://calitacafe.com/" target="_blank">Calita Cafe</a> in Downtown Fullerton on Friday\, February 22\, at 3:30 p.m.<br />\nAttendees will enjoy opportunities for giveaways\, promotional offers and a DJ to celebrate!&nbsp\;</span>
LOCATION:Calita Cafe 444 N. Harbor Blvd.\, Suite 116 Fullerton\, CA 92832
UID:e.887.22988
SEQUENCE:3
DTSTAMP:20260422T091207Z
URL:https://business.nocchamber.com/events/details/calita-cafe-ribbon-cutting-22988
END:VEVENT

END:VCALENDAR
