BEGIN:VCALENDAR
VERSION:2.0
PRODID:-//ChamberMaster//Event Calendar 2.0//EN
METHOD:PUBLISH
X-PUBLISHED-TTL:P3D
REFRESH-INTERVAL:P3D
CALSCALE:GREGORIAN
BEGIN:VEVENT
DTSTART:20190620T180000Z
DTEND:20190621T000000Z
X-MICROSOFT-CDO-ALLDAYEVENT:FALSE
SUMMARY:California State Treasurer Fiona Ma's Housing Tour
DESCRIPTION:Join California State Treasurer Fiona Ma\, CPA to discuss revisions to California debt limit allocation committee and California Tax credit allocation committee regulations.\nThis workshop is designed to provide the public an opportunity to provide input on the CDLAC and CTCAC regulations as the Treasurer seeks to revise them to meet her housing and economic development goals.\n\nTOPICS INCLUDE: Overview of the Treasurer's housing and economic development goals and discussion on CDLAC and CTCAC regulations to align with those goals\n\nShe will hold public meetings in:\n\n\n	Riverside and Los Angeles (June 14)\;\n	San Diego and Buena Park (June 20)\;\n	Bakersfield and Port of Hueneme (June 24)\;\n	Redding and Sacramento (June 27)\;\n	Fresno and San Jose (June 28).\n\n\nINVITED TO SPEAK: Fiona Ma\, Treasurer\; Jovan Agee\, Deputy Treasurer\; Anthony Zeto\, CTCAC\; Evan Kass\, CDLAC\n\n\n\nMeeting times and locations are listed here.
X-ALT-DESC;FMTTYPE=text/html:Join California State Treasurer Fiona Ma\, CPA to discuss revisions to California debt limit allocation committee and California Tax credit allocation committee regulations.\n<p>This workshop is designed to provide the public an opportunity to provide input on the CDLAC and CTCAC regulations as the Treasurer seeks to revise them to meet her housing and economic development goals.</p>\n\n<p>TOPICS INCLUDE: Overview of the Treasurer&rsquo\;s housing and economic development goals and discussion on CDLAC and CTCAC regulations to align with those goals</p>\n\n<p>She will hold public meetings in:</p>\n\n<ul>\n	<li>Riverside and Los Angeles (June 14)\;</li>\n	<li>San Diego and Buena Park (June 20)\;</li>\n	<li>Bakersfield and Port of Hueneme (June 24)\;</li>\n	<li>Redding and Sacramento (June 27)\;</li>\n	<li>Fresno and San Jose (June 28).</li>\n</ul>\n\n<p>INVITED TO SPEAK: Fiona Ma\, Treasurer\; Jovan Agee\, Deputy Treasurer\; Anthony Zeto\, CTCAC\; Evan Kass\, CDLAC<br />\n<br />\nMeeting times and locations are listed <a href="https://docs.google.com/forms/d/e/1FAIpQLSc7gV8J0brpJufKIDQ03B50ECN20e-qZxTO6HopbNJ44GVCmA/viewform" target="_blank">here</a>.</p>\n
LOCATION:San Diego Housing Commission 1122 Broadway Suite 500 San Diego\, CA 92101 Buena Park City Hall Council Chamber 6550 Beach Blvd. Buena Park\, CA 90622
UID:e.887.23403
SEQUENCE:3
DTSTAMP:20260422T041941Z
URL:https://business.nocchamber.com/events/details/california-state-treasurer-fiona-ma-s-housing-tour-23403
END:VEVENT

END:VCALENDAR
