BEGIN:VCALENDAR
VERSION:2.0
PRODID:-//ChamberMaster//Event Calendar 2.0//EN
METHOD:PUBLISH
X-PUBLISHED-TTL:P3D
REFRESH-INTERVAL:P3D
CALSCALE:GREGORIAN
BEGIN:VEVENT
DTSTART:20190909T140000Z
DTEND:20190910T023000Z
X-MICROSOFT-CDO-ALLDAYEVENT:FALSE
SUMMARY:California Food Expo
DESCRIPTION:You are invited to join this year's California Food Expo in Fresno\, CA. The California Food Expo is a Celebration of Central California's vibrant food community and a showcase of our region's most innovative food and beverage producers.  \n\nWhether you are sourcing for grocery retail\, restaurants\, school districts\, hospitals or the export market\, the Food Expo is your opportunity to connect with local trendsetters and CEO's behind some of the nation's largest food companies.\n\n\n\nClick Here for more information.\n\nCalifornia Food Expo Schedule
X-ALT-DESC;FMTTYPE=text/html:<p>You are invited to join&nbsp\;this year&#39\;s California Food Expo in Fresno\, CA. The California Food Expo is a Celebration of Central California&#39\;s vibrant food community and a showcase of our region&#39\;s most innovative food and beverage producers.&nbsp\;&nbsp\;</p>\n\n<p background-color:="" font-size:="" pt="">Whether you are sourcing for grocery retail\, restaurants\, school districts\, hospitals or the export market\, the Food Expo is your opportunity to connect with local trendsetters and CEO&rsquo\;s behind some of the nation&rsquo\;s largest food companies.<br />\n<br />\n<a href="https://californiafoodexpo.com/" target="_blank">Click Here</a> for more information.<br />\n<a href="https://californiafoodexpo.com/expo/schedule" target="_blank">California Food Expo Schedule</a></p>\n
LOCATION:Fresno Convention Center 848 M Street Fresno\, CA 93721
UID:e.887.23450
SEQUENCE:3
DTSTAMP:20260422T002108Z
URL:https://business.nocchamber.com/events/details/california-food-expo-23450
END:VEVENT

END:VCALENDAR
