BEGIN:VCALENDAR
VERSION:2.0
PRODID:-//ChamberMaster//Event Calendar 2.0//EN
METHOD:PUBLISH
X-PUBLISHED-TTL:P3D
REFRESH-INTERVAL:P3D
CALSCALE:GREGORIAN
BEGIN:VEVENT
DTSTART:20200417T170000Z
DTEND:20200417T180000Z
X-MICROSOFT-CDO-ALLDAYEVENT:FALSE
SUMMARY:California Department of Insurance Small Business Tele-Town Hall
DESCRIPTION:Join California Insurance Commissioner Ricardo Lara on Friday\, April 17th at 10:00 a.m. for a Tele-TownHall to discuss insurance issues for small businesses during the COVID-19 pandemic emergency. \nWith many businesses experiencing tremendous economic loss\, the California Department of Insurance would like to inform and hear from small business owners regarding insurance coverage issues. This will also be an opportunity to learn more details about the Commissioner's myriad of Bulletins and Notices sent out to insurance companies designed to help protect California small businesses and consumers during this time of emergency. Commissioner Lara will be joined by the U.S. Small Business Administration\, the Governor's Office of Business and Economic Development (GO-Biz)\, and Small Business Majority and will discuss coverage options for small businesses today as well as a way forward as we emerge from this pandemic.
X-ALT-DESC;FMTTYPE=text/html:Join California Insurance Commissioner Ricardo Lara on Friday\, April 17th at 10:00 a.m. for a Tele-TownHall to discuss insurance issues for small businesses during the COVID-19 pandemic emergency.&nbsp\;\n<p>With many businesses experiencing tremendous economic loss\, the California Department of Insurance would like to inform and hear from small business owners regarding insurance coverage issues. This will also be an opportunity to learn more details about the Commissioner&rsquo\;s myriad of Bulletins and Notices sent out to insurance companies designed to help protect California small businesses and consumers during this time of emergency. Commissioner Lara will be joined by the U.S. Small Business Administration\, the Governor&rsquo\;s Office of Business and Economic Development (GO-Biz)\, and Small Business Majority and will discuss coverage options for small businesses today as well as a way forward as we emerge from this pandemic.&nbsp\;</p>\n
LOCATION:After you RSVP for this Tele-TownHall event\, you will receive a call-in number via email in advance of the event. Webinar will cover questions including: What is the federal government and State of California doing to assist small businesses and their workers? What is the role of the Department of Insurance in regulating insurance companies during this current emergency? What are my options if I do not have coverage for business losses due to the COVID-19 virus? Please submit your questions in advance by Wednesday\, April 15th at 5PM. Please note that the panelists will not be able to respond individually to every submitted question during the Tele-TownHall\, and submitting a question does not constitute a request for assistance. The Department of Insurance has also released a FAQ for businesses dealing with the sudden economic downturn.
UID:e.887.24287
SEQUENCE:3
DTSTAMP:20260421T154623Z
URL:https://business.nocchamber.com/events/details/california-department-of-insurance-small-business-tele-town-hall-24287
END:VEVENT

END:VCALENDAR
