BEGIN:VCALENDAR
VERSION:2.0
PRODID:-//ChamberMaster//Event Calendar 2.0//EN
METHOD:PUBLISH
X-PUBLISHED-TTL:P3D
REFRESH-INTERVAL:P3D
CALSCALE:GREGORIAN
BEGIN:VEVENT
DTSTART:20190805T150000Z
DTEND:20190806T000000Z
X-MICROSOFT-CDO-ALLDAYEVENT:FALSE
SUMMARY:California Community Colleges - Veterans Workshop
DESCRIPTION:An Opportunity for Veterans (current community college students) to focus on entrepreneurship in the gig economy\, employability skills and learning/updating skills right now and for the future. The economy and workplace are rapidly changing and you need to be prepared. Content for the week includes focus on applied workplace skills\, employability\, leadership\, information about the changing workforce\, and input from content experts and veterans from a breadth of backgrounds sharing their journey. The goal is supporting each participant to continue the journey and achieve your goals: education\, life\, personal.
X-ALT-DESC;FMTTYPE=text/html:An Opportunity for Veterans (current community college students) to focus on entrepreneurship in the gig economy\, employability skills and learning/updating skills&nbsp\;right now&nbsp\;and for the future. The economy and workplace are rapidly changing and you need to be prepared. Content for the week includes focus on applied workplace skills\, employability\, leadership\, information about the changing workforce\, and input from content experts and veterans from a breadth of backgrounds sharing their journey. The goal is supporting each participant to continue the journey and achieve your goals:&nbsp\;education\, life\, personal.
LOCATION:Santa Ana College 1530 W. 17th Street Santa Ana\, CA 92706 (Building) B-16
UID:e.887.23370
SEQUENCE:3
DTSTAMP:20260422T015457Z
URL:https://business.nocchamber.com/events/details/california-community-colleges-veterans-workshop-23370
END:VEVENT

END:VCALENDAR
