BEGIN:VCALENDAR
VERSION:2.0
PRODID:-//ChamberMaster//Event Calendar 2.0//EN
METHOD:PUBLISH
X-PUBLISHED-TTL:P3D
REFRESH-INTERVAL:P3D
CALSCALE:GREGORIAN
BEGIN:VEVENT
DTSTART:20190725T190000Z
DTEND:20190725T230000Z
X-MICROSOFT-CDO-ALLDAYEVENT:FALSE
SUMMARY:CalAsian Chamber of Commerce - Grow Your Export Forum - Irvine
DESCRIPTION:The Californian Asian Pacific Chamber of Commerce is hosting a series of forums in major Metropolitan Areas in California to help small and medium-sized businesses expand their knowledge in federal\, state\, and local export assistance programs. Engage with international trade experts as they share valuable insight on current global trends to assist you in strategies to meet your exporting goals. Connect thriving businesses with export professionals to discover what it takes to expand abroad.\nAgenda:\n\n12:00 PM | Registration and Lunch\n\n1:00 PM | Welcome Remarks\n\n1:05 PM | Hong Kong Business Outlook by Hong Kong Trade Development Council\n\n1:50 PM | Export Essentials by DHL\n\n2:35 PM | Break\n\n2:45 PM | Panel: Exploring New Markets and Who to go to for Help\n\n3:30 PM | Closing Remarks & Networking
X-ALT-DESC;FMTTYPE=text/html:The Californian Asian Pacific Chamber of Commerce is hosting a series of forums in major Metropolitan Areas in California to help small and medium-sized businesses&nbsp\;expand their knowledge in federal\, state\, and local export assistance programs.&nbsp\;Engage with international trade experts as they share valuable insight on current global trends to assist you in strategies to meet your exporting goals. Connect thriving businesses with export professionals to&nbsp\;discover what it takes to expand abroad.\n<p>Agenda:<br />\n12:00 PM | Registration and Lunch<br />\n1:00 PM | Welcome Remarks<br />\n1:05 PM | Hong Kong Business Outlook by Hong Kong Trade Development Council<br />\n1:50 PM | Export Essentials by DHL<br />\n2:35 PM | Break<br />\n2:45 PM | Panel: Exploring New Markets and Who to go to for Help<br />\n3:30 PM | Closing Remarks &amp\; Networking</p>\n
LOCATION:Orange County SBDC - Irvine 1 Banting\, Suite A Irvine\, CA 92618
UID:e.887.23408
SEQUENCE:3
DTSTAMP:20260422T030503Z
URL:https://business.nocchamber.com/events/details/calasian-chamber-of-commerce-grow-your-export-forum-irvine-23408
END:VEVENT

END:VCALENDAR
