BEGIN:VCALENDAR
VERSION:2.0
PRODID:-//ChamberMaster//Event Calendar 2.0//EN
METHOD:PUBLISH
X-PUBLISHED-TTL:P3D
REFRESH-INTERVAL:P3D
CALSCALE:GREGORIAN
BEGIN:VEVENT
DTSTART:20200723T230000Z
DTEND:20200724T000000Z
X-MICROSOFT-CDO-ALLDAYEVENT:FALSE
SUMMARY:CA-39 Census Facebook Live Town Hall With Congressman Cisneros
DESCRIPTION:Representative Gilbert R. Cisneros\, Jr. (CA-39) and California Secretary of State Alex Padilla will host a Facebook Live Town Hall Thursday\, July 23rd to talk about the U.S. Census. Amid the coronavirus\, they'll also provide an update on 2020 voting procedures.  They'll be joined by representatives from the U.S. Census Bureau's LA Regional Office. 39th District residents can RSVP and submit questions here.
X-ALT-DESC;FMTTYPE=text/html:Representative Gilbert R. Cisneros\, Jr. (CA-39) and California Secretary of State Alex Padilla will host a Facebook Live Town Hall Thursday\, July 23rd to talk about the U.S. Census. Amid the coronavirus\, they&rsquo\;ll also provide an update on 2020 voting procedures.&nbsp\; They&rsquo\;ll be joined by representatives from the U.S. Census Bureau&rsquo\;s LA Regional Office. 39th District residents can RSVP and submit questions <a href="https://docs.google.com/forms/d/e/1FAIpQLSelrS9zE6GMI0TiIDO1D4T95_kjg8BoURk1464IMaNhVqE-Zg/viewform">here</a>.&nbsp\;
LOCATION:Online Event
UID:e.887.24535
SEQUENCE:3
DTSTAMP:20260421T120153Z
URL:https://business.nocchamber.com/events/details/ca-39-census-facebook-live-town-hall-with-congressman-cisneros-24535
END:VEVENT

END:VCALENDAR
