BEGIN:VCALENDAR
VERSION:2.0
PRODID:-//ChamberMaster//Event Calendar 2.0//EN
METHOD:PUBLISH
X-PUBLISHED-TTL:P3D
REFRESH-INTERVAL:P3D
CALSCALE:GREGORIAN
BEGIN:VEVENT
DTSTART:20190620T000000Z
DTEND:20190620T040000Z
X-MICROSOFT-CDO-ALLDAYEVENT:FALSE
SUMMARY:Business Excellence and Leadership Awards Dinner 2019
DESCRIPTION:North Orange County Chamber is proud to present the 2019 Business Excellence and Leadership Awards. Join incoming Board Chair\, Michael Williams\, as the Chamber recognizes the service of our directors and installs the 2019-20 board.  Business honorees include Hapa Cupcakes\, Pendarvis Manufacturing\, Porto's Bakery & Cafe and The Cellar.\n\n\n\nSponsorship Opportunities Available. Click here for more information\n\nInterested in donating an auction item? Click here for an auction donation form.
X-ALT-DESC;FMTTYPE=text/html:North Orange County Chamber is proud to present the 2019 Business Excellence and Leadership Awards. Join incoming Board Chair\, Michael Williams\, as the Chamber recognizes the service of our directors and installs the 2019-20 board.&#8203\; Business honorees include <a href="http://www.hapacupcakes.com/" target="_blank">Hapa Cupcakes</a>\, <a href="https://www.pendarvismanufacturing.com/" target="_blank">Pendarvis Manufacturing</a>\, <a href="http://www.portosbakery.com/" target="_blank">Porto&#39\;s Bakery &amp\; Cafe</a> and <a href="http://cellardining.com/" target="_blank">The Cellar</a>.<br />\n<br />\nSponsorship Opportunities Available.&nbsp\;<a href="https://chambermaster.blob.core.windows.net/userfiles/UserFiles/chambers/887/File/BELA2019_SponsorshipForm1.pdf" target="_blank">Click here for more information</a><br />\nInterested in donating an auction item? <a href="https://chambermaster.blob.core.windows.net/userfiles/UserFiles/chambers/887/File/Auction-donation-form-2019.pdf" target="_blank">Click here for an auction donation form.</a>
LOCATION:Summit House Restaurant 2000 E Bastanchury Rd. Fullerton\, CA 92835
UID:e.887.23129
SEQUENCE:3
DTSTAMP:20260422T043017Z
URL:https://business.nocchamber.com/events/details/business-excellence-and-leadership-awards-dinner-2019-23129
END:VEVENT

END:VCALENDAR
