BEGIN:VCALENDAR
VERSION:2.0
PRODID:-//ChamberMaster//Event Calendar 2.0//EN
METHOD:PUBLISH
X-PUBLISHED-TTL:P3D
REFRESH-INTERVAL:P3D
CALSCALE:GREGORIAN
BEGIN:VEVENT
DTSTART:20191004T003000Z
DTEND:20191004T030000Z
X-MICROSOFT-CDO-ALLDAYEVENT:FALSE
SUMMARY:Business Advisory Meeting Fullerton College
DESCRIPTION:This event is open to businesses that would like to contribute to the future of education by telling us needs\, wants and experiences of your workplace. To RSVP for the FC Business Advisory meeting\, click here.
X-ALT-DESC;FMTTYPE=text/html:This event is open to businesses that would like to contribute to the future of education by telling us needs\, wants and experiences of your workplace. To RSVP for the FC Business Advisory meeting\, <a href="https://forms.gle/WJSfHraGHjHY1dUt8" target="_blank">click here.</a>
LOCATION:Fullerton College Building 200\, Room 224 321 E Chapman Ave Fullerton\, CA 92832
UID:e.887.23604
SEQUENCE:3
DTSTAMP:20260421T231025Z
URL:https://business.nocchamber.com/events/details/business-advisory-meeting-fullerton-college-23604
END:VEVENT

END:VCALENDAR
