BEGIN:VCALENDAR
VERSION:2.0
PRODID:-//ChamberMaster//Event Calendar 2.0//EN
METHOD:PUBLISH
X-PUBLISHED-TTL:P3D
REFRESH-INTERVAL:P3D
CALSCALE:GREGORIAN
BEGIN:VEVENT
DTSTART:20191106T013000Z
DTEND:20191106T030000Z
X-MICROSOFT-CDO-ALLDAYEVENT:FALSE
SUMMARY:Building a Statewide Digital and Archival Collaboration
DESCRIPTION:The Lawrence de Graaf Center for Oral and Public History presents its fall Hansen Lecture. Greg Williams\, Director of Archives & Special Collections at CSU Dominguez Hills\, will discuss his work on the CSU Japanese American History Digitization Project. The Lawrence de Graaf Center for Oral and Public History has been a regular contributor to this collaborative digital history project\, which aims to improve access to CSU archival collections about the history of Japanese Americans.
X-ALT-DESC;FMTTYPE=text/html:The Lawrence de Graaf Center for Oral and Public History&nbsp\;presents its fall Hansen Lecture. Greg Williams\, Director of Archives &amp\; Special Collections at CSU Dominguez Hills\, will discuss his work on the CSU Japanese American History Digitization Project. The Lawrence de Graaf Center for Oral and Public History has been a regular contributor to this collaborative digital history project\, which aims to&nbsp\;improve access to CSU archival collections about the history of Japanese Americans.
LOCATION:Titan Student Union\, Pavilion A 800 N State College Blvd Fullerton\, CA 92831
UID:e.887.23726
SEQUENCE:3
DTSTAMP:20260421T225441Z
URL:https://business.nocchamber.com/events/details/building-a-statewide-digital-and-archival-collaboration-23726
END:VEVENT

END:VCALENDAR
