BEGIN:VCALENDAR
VERSION:2.0
PRODID:-//ChamberMaster//Event Calendar 2.0//EN
METHOD:PUBLISH
X-PUBLISHED-TTL:P3D
REFRESH-INTERVAL:P3D
CALSCALE:GREGORIAN
BEGIN:VEVENT
DTSTART:20191107T010000Z
DTEND:20191107T020000Z
X-MICROSOFT-CDO-ALLDAYEVENT:FALSE
SUMMARY:Buena Park - Veterans Honor Walk
DESCRIPTION:The Veterans Honor Walk will pay tribute to all who served in the military. The City of Buena Park and the Buena Park Veterans of Foreign Wars Post 8954 host this free event each year to thank all of those who served\, as well as provide an opportunity for the community to express their appreciation. There will be a guest speaker\, a candlelight ceremony\, and a tribute to the 21 Fallen Warriors featured on the Buena Park memorial.
X-ALT-DESC;FMTTYPE=text/html:The Veterans Honor Walk will pay tribute to all who served in the military.&nbsp\;The City of Buena Park and the Buena Park Veterans of Foreign Wars Post 8954 host this free event each year to thank all of those who served\, as well as provide an opportunity for the community to express their appreciation. There will be a guest speaker\, a candlelight ceremony\, and a tribute to the 21 Fallen Warriors featured on the Buena Park memorial.
LOCATION:Ehlers Event Center 8150 Knott Ave. Buena Park\, California 90620
UID:e.887.23757
SEQUENCE:3
DTSTAMP:20260421T214155Z
URL:https://business.nocchamber.com/events/details/buena-park-veterans-honor-walk-23757
END:VEVENT

END:VCALENDAR
