BEGIN:VCALENDAR
VERSION:2.0
PRODID:-//ChamberMaster//Event Calendar 2.0//EN
METHOD:PUBLISH
X-PUBLISHED-TTL:P3D
REFRESH-INTERVAL:P3D
CALSCALE:GREGORIAN
BEGIN:VEVENT
DTSTART:20200226T021500Z
DTEND:20200226T040000Z
X-MICROSOFT-CDO-ALLDAYEVENT:FALSE
SUMMARY:Buena Park - Toastmasters Where Leaders Are Made
DESCRIPTION:Toastmasters Will Help You:\n\n	Become a better speaker and presenter\n	Communicate with confidence\n	Develop your leadership skills\n	Listen effectively\n\nLearn these skills and more in a supportive\, self-paced\, and fun atmosphere.
X-ALT-DESC;FMTTYPE=text/html:Toastmasters Will Help You:\n<ul>\n	<li>Become a better speaker and presenter</li>\n	<li>Communicate with confidence</li>\n	<li>Develop your leadership skills</li>\n	<li>Listen effectively</li>\n</ul>\nLearn these skills and more in a supportive\, self-paced\, and fun atmosphere.&nbsp\;
LOCATION:Boys & Girls Club 7758 Knott Ave. Buena Park\, CA 90620
UID:e.887.24210
SEQUENCE:3
DTSTAMP:20260421T180238Z
URL:https://business.nocchamber.com/events/details/buena-park-toastmasters-where-leaders-are-made-24210
END:VEVENT

END:VCALENDAR
