BEGIN:VCALENDAR
VERSION:2.0
PRODID:-//ChamberMaster//Event Calendar 2.0//EN
METHOD:PUBLISH
X-PUBLISHED-TTL:P3D
REFRESH-INTERVAL:P3D
CALSCALE:GREGORIAN
BEGIN:VEVENT
DTSTART:20200220T003000Z
DTEND:20200220T023000Z
X-MICROSOFT-CDO-ALLDAYEVENT:FALSE
SUMMARY:Buena Park - Shape Biking/Walking Trail Network
DESCRIPTION:The City of Buena Park is seeking public input for a feasibility study to explore biking and pedestrian trail connectivity in the northwest part of the city. \n\n\n\nCurrently studying connectivity to:\n\n	Beach Blvd. - La Mirada Blvd. - Malvern Ave. north of Artesia Blvd.\n	Buena Park Metrolink Station\n	Exicsting & future segments of the OC Loop bike trail network
X-ALT-DESC;FMTTYPE=text/html:The City of Buena Park is seeking public input for a feasibility study to explore biking and pedestrian trail connectivity in the northwest part of the city.&nbsp\;<br>\n<br>\nCurrently studying connectivity to:\n<ul>\n	<li>Beach Blvd. - La Mirada Blvd. - Malvern Ave. north of Artesia Blvd.</li>\n	<li>Buena Park Metrolink Station</li>\n	<li>Exicsting &amp\; future segments of the OC Loop bike trail network</li>\n</ul>\n
LOCATION:Buena Park Community Center 6688 Beach Boulevard Buena Park\, CA 90621
UID:e.887.23817
SEQUENCE:3
DTSTAMP:20260421T191310Z
URL:https://business.nocchamber.com/events/details/buena-park-shape-biking-walking-trail-network-23817
END:VEVENT

END:VCALENDAR
