BEGIN:VCALENDAR
VERSION:2.0
PRODID:-//ChamberMaster//Event Calendar 2.0//EN
METHOD:PUBLISH
X-PUBLISHED-TTL:P3D
REFRESH-INTERVAL:P3D
CALSCALE:GREGORIAN
BEGIN:VEVENT
DTSTART:20170625T213000Z
DTEND:20170625T233000Z
X-MICROSOFT-CDO-ALLDAYEVENT:FALSE
SUMMARY:Buena Park Presents Seussical The Musical
DESCRIPTION:Sing-along with your favorite Dr. Seuss characters in Buena Park Youth Theatre's Production of Seussical\; now one of the most performed shows in America\, Seussical is a musical show that features Tony Winners Lynn Ahrens and Stephen Flaherty. The musical brings to life all of your favorite Dr. Seuss characters\, including Horton the Elephant\, The Cat in the Hat\, Gertrude McFuzz\, Lazy Mayzie and a little boy with a big imagination - Jojo.
X-ALT-DESC;FMTTYPE=text/html:Sing-along with your favorite Dr. Seuss characters in Buena Park Youth&nbsp\;Theatre&#39\;s&nbsp\;Production of&nbsp\;Seussical\; now one of the most performed shows in America\, Seussical is a musical show that features Tony Winners Lynn Ahrens and Stephen Flaherty. The musical brings to life all of your favorite Dr. Seuss characters\, including Horton the Elephant\, The Cat in the Hat\, Gertrude McFuzz\, Lazy Mayzie and a little boy with a big imagination - Jojo.&nbsp\;
LOCATION:Buena Park High School Performing Arts Complex 8833 Academy Drive Buena Park\, CA 90621
UID:e.887.16215
SEQUENCE:3
DTSTAMP:20260421T015221Z
URL:https://business.nocchamber.com/events/details/buena-park-presents-seussical-the-musical-06-25-2017-16215
END:VEVENT

END:VCALENDAR
