BEGIN:VCALENDAR
VERSION:2.0
PRODID:-//ChamberMaster//Event Calendar 2.0//EN
METHOD:PUBLISH
X-PUBLISHED-TTL:P3D
REFRESH-INTERVAL:P3D
CALSCALE:GREGORIAN
BEGIN:VEVENT
DTSTART:20200530T180000Z
DTEND:20200530T210000Z
X-MICROSOFT-CDO-ALLDAYEVENT:FALSE
SUMMARY:Buena Park: Police Department Open House
DESCRIPTION:The City of Buena Park is holding its' annual free Open House\, offering the community a chance to come and meet your local police department.\nThe event features:\n\n\n	Demonstrations: SWAT Team & K-9 Unit\n	Department Tours: Dispatch Center\, Shooting Range & more\n	Free Photos for Kids on Police Motorcycles\n	Highway Patrol Helicopter
X-ALT-DESC;FMTTYPE=text/html:The City of Buena Park is holding its&#39\; annual free Open House\, offering the community a chance to come and meet your local police department.\n<p>The event features:</p>\n\n<ul>\n	<li>Demonstrations: SWAT Team &amp\; K-9 Unit</li>\n	<li>Department Tours: Dispatch Center\, Shooting Range &amp\; more</li>\n	<li>Free Photos for Kids on Police Motorcycles</li>\n	<li>Highway Patrol Helicopter</li>\n</ul>\n
LOCATION:Buena Park Civic Center 6650 Beach Blvd. Buena Park\, CA 90621
UID:e.887.24250
SEQUENCE:3
DTSTAMP:20260421T144259Z
URL:https://business.nocchamber.com/events/details/buena-park-police-department-open-house-24250
END:VEVENT

END:VCALENDAR
