BEGIN:VCALENDAR
VERSION:2.0
PRODID:-//ChamberMaster//Event Calendar 2.0//EN
METHOD:PUBLISH
X-PUBLISHED-TTL:P3D
REFRESH-INTERVAL:P3D
CALSCALE:GREGORIAN
BEGIN:VEVENT
DTSTART:20190909T150000Z
DTEND:20190909T180000Z
X-MICROSOFT-CDO-ALLDAYEVENT:FALSE
SUMMARY:Buena Park Police Association's Fallen Four Golf Tournament
DESCRIPTION:The Buena Park Police Association\, and Police Chief Corey Sianez are proud to host their 22nd Annual Fallen Four Memorial Golf Tournament at the Los Coyotes Country Club.\n\n\n\nTragically\, the Buena Park Police Department family suffered the loss of four police officers in the line of duty: Bud Cate\, Shayne York\, Tyler Pinchot\, and Daniel Ackerman. The police department finds it only appropriate to memorialize the fallen four\, while helping make a positive impact on the community in their honor.\n\n\n\nA majority of the proceeds from this year's tournament will be donated in the names of the fallen officers to the American Cancer Society and Buena Park Collaborative. Both are charitable organizations that help change the lives of those in need. The Buena Park Police Association\, and Police Chief Corey Sianez\, believe working with these organizations is a fitting tribute to the sacrifice of the fallen four officers.\nClick here to sponsor or participate in the Fallen Four Golf Tournament.\n\n\n\nDue to the popularity of this golf tournament\, registration with completed payment must be submitted by August 26\, 2019\, because they will not be able to accommodate late registration or payment.\n\nIf you have any further questions please send an email or contact the Chief's Secretary Lorraine Cota at (714) 562-3911.
X-ALT-DESC;FMTTYPE=text/html:The Buena Park Police Association\, and Police Chief Corey Sianez are proud to host their 22nd Annual Fallen Four Memorial Golf Tournament at the Los Coyotes Country Club.<br />\n<br />\nTragically\, the Buena Park Police Department family suffered the loss of four police officers in the line of duty: Bud Cate\, Shayne York\, Tyler Pinchot\, and Daniel Ackerman. The police department finds it only appropriate to memorialize the fallen four\, while helping make a positive impact on the community in their honor.<br />\n<br />\nA majority of the proceeds from this year&#39\;s tournament will be donated in the names of the fallen officers to the American Cancer Society and Buena Park Collaborative. Both are charitable organizations that help change the lives of those in need. The Buena Park Police Association\, and Police Chief Corey Sianez\, believe working with these organizations is a fitting tribute to the sacrifice of the fallen four officers.\n<p><a href="http://www.buenapark.com/city-departments/police/events/fallen-four-golf-tournament" target="_blank">Click here</a> to sponsor or participate in the&nbsp\;Fallen Four Golf Tournament.<br />\n<br />\nDue to the popularity of this&nbsp\;golf tournament\, registration with completed payment must be submitted by August 26\, 2019\, because they&nbsp\;will not be able to accommodate late registration or payment.</p>\n\n<p>If you have any further questions please send an email or contact the Chief&rsquo\;s Secretary Lorraine Cota at (714) 562-3911.</p>\n
LOCATION:Los Coyotes Country Club 8888 Los Coyotes Drive Buena Park\, CA 90621
UID:e.887.23405
SEQUENCE:3
DTSTAMP:20260422T002153Z
URL:https://business.nocchamber.com/events/details/buena-park-police-association-s-fallen-four-golf-tournament-23405
END:VEVENT

END:VCALENDAR
